Workbook

Sheet Candidate Identification
B3: EXTERNAL COMPETITION FOR ADJUNCT PROFESSOR IN THE DISCIPLINARY AREA OF GERONTOLOGY
B5: IDENTIFICATION
B7: Candidate's full name:
B10: CONDITIONS FOR ADMISSION TO THE COMPETITION/DOCTORATE (point 5.3 of the announcement)
B12: Name of the Doctoral Program:
B14: Specialty:
B16: Thesis Title:
B18: Doctoral Degree Awarding Institution:
B20: Faculty/Department/School:
B22: Year of Completion:
B24: CONDITIONS FOR ADMISSION TO THE COMPETITION/SPECIALIST TITLE (point 5.3 of the Notice)
B26: Designation of Specialist Title:
... B34: Grant year:

Sheet Completion Rules
C3: EXTERNAL COMPETITION FOR ADJUNCT PROFESSOR IN THE DISCIPLINARY AREA OF GERONTOLOGY
C8: Rules for filling out the grid and scoring curriculum elements
C11: 1. Candidates formalize their application by completing the Application Form. To do so, they must, in addition to the Identification elements: (i) complete, for each Component, column VII of the Grid, indicating the number of elements of their CV that fit into each of the items; (ii) identify, in column X of the grid, the attachments (or links to freely accessible online documents) that document each of the indicated elements. For example, if the candidate indicates in column VII of item H1, of the Training, Degrees, and Qualifications Component, that they have two bachelor's degrees, they should indicate in column X that Annex H1.1 corresponds to the diploma for Bachelor's degree X and Annex H1.2 corresponds to the diploma for Bachelor's degree X2. Each attachment should be submitted in a separate PDF file.
C12: 2. Candidates are responsible for ensuring that their curriculum elements correspond to the items on the grid. The jury does not reposition curriculum elements in items other than those identified by the candidate. When analyzing the adequacy of their curriculum elements to the items on the Grid, candidates must consider the framework of the action, not only in the relevant item but also in the "Component," "Parameter," and "Dimension" in which that item is located.
C13: 3. Unless explicitly stated otherwise, only curricular elements that relate to the scientific/disciplinary area in which the competition is open will be scored.
C14: 4. Curricular elements are scored in only one item on the grid. Candidates must indicate each curricular element in only one item, otherwise that curricular element will not be considered in any of the assessment items.
C15: 5. The candidate must attach to their CV the documents proving the curriculum elements indicated in the Application Form or provide in the Application Form (column X) the links to documents that are available online, on publicly and freely accessible sites.
C16: 6. Attachments and/or links must be presented with the item identification (cf. column III of the Grid), followed by the name of the document (examples: H1 - Diploma of..., H2 - Certificate of...). If there is more than one attachment for each item, add the sequential number to the attachment identification (example: H1.1 - Diploma of..., H1.2 - Diploma of..., etc.).
C17: 7. The documents submitted to prove the actions indicated by the candidates must clearly and directly correspond to the elements referred to in the item in question, otherwise they will not be considered.
C18: 8. The grid records the "total score" obtained by the candidates (column VIII), as well as the "score to be considered" for each "Parameter", taking as a reference the maximum score value that is defined and indicated for each of the Parameters (column I) of the various Components of the Grid. In each component, the last line of the respective grid shows the Total Score and the Score to Be Considered obtained by the candidate for that Component.
C19: 9. The final tab of the Grid—Total Score—displays all the scores obtained from the candidate's completion of the grid. The score resulting from the jury's evaluation will also appear in this tab after the jury has analyzed the application's elements.
C20: NOTES:
... C23: b. The scores recorded in columns VIII and IX are for informational purposes only. The application's score will be the result of the jury's analysis and will be recorded in columns XII and XIII.

Sheet Training, Degrees and Titles Co
C3: EXTERNAL COMPETITION FOR ADJUNCT PROFESSOR IN THE DISCIPLINARY AREA OF GERONTOLOGY
C8: Candidate Name: | E8: ='Candidate Identification'!C7 -> 0
C10: TRAINING, DEGREES AND ACADEMIC TITLES COMPONENT (Weighting in the Final Score) = | F10: 0.25
B12: Parameters | C12: Dimension | D12: Item | E12: Elements to value | G12: Unit | H12: Points | I12: To be completed by the candidate (columns VII and X) | M12: Jury validation
I13: Number (or fraction) of elements to be scored | J13: Total Score | K13: Score to consider | L13: Identification of supporting Annex(es) and/or Link(s). NOTE: The jury will only score the curriculum elements whose supporting documents are identified in this column of the form. | M13: Number (or fraction) of elements to be scored | N13: Total Score | O13: Score to consider | P13: JJustification for cases in which the jury does not validate the information provided by the candidate
B14: I | C14: II | D14: III | E14: IV | G14: V | H14: VI | I14: VII | J14: VIII | K14: IX | L14: X | M14: XI | N14: XII | O14: XIII | P14: XIV
B15: Graus Académicos (excepto Academic Degrees (except doctorate, which is a prerequisite for admission) | C15: Initial and Postgraduate Training | D15: H1 | E15: Bachelor's degree in the scientific field of Gerontology | G15: course | H15: 35 | J15: =H15*I15 -> 0 | K15: =IF((J18)>B18,B18,(J18)) -> 0 | N15: =H15*M15 -> 0 | O15: =IF((N18)>B18,B18,(N18)) -> 0
B17: v | D17: H2 | E17: Master's degree in the scientific area of Gerontology | G17: course | H17: 30 | J17: =H17*I17 -> 0 | N17: =H17*M17 -> 0
B18: 65 | J18: =SUM(J15:J17) -> 0 | N18: =SUM(N15:N17) -> 0
B19: Academic Titles | C19: Post-Doctoral Titles | D19: H3 | E19: Aggregation in the scientific area of Gerontology | G19: title | H19: 20 | J19: =H19*I19 -> 0 | K19: =IF((J21)>B21,B21,(J21)) -> 0 | N19: =H19*M19 -> 0 | O19: =IF((N21)>B21,B21,(N21)) -> 0
B20: Maximum score to consider
B21: 20 | J21: =J19 -> 0 | N21: =N19 -> 0
B22: Outro Tipo de Formação na área do concurso | C22: Postgraduate degrees completed at Higher Education Institutions | D22: H4 | E22: Postgraduate courses in the scientific area of Gerontology, with 60 or more ECTS | G22: course | H22: 5 | J22: =H22*I22 -> 0 | K22: =IF((J25)>B25,B25,(J25)) -> 0 | N22: =H22*M22 -> 0 | O22: =IF((N25)>B25,B25,(N25)) -> 0
D23: H5 | E23: Postgraduate courses in the scientific area of Gerontology, with 30 or more ECTS | G23: course | H23: 2.5 | J23: =H23*I23 -> 0 | N23: =H23*M23 -> 0
B24: Maximum score to consider | D24: H6 | E24: Post-Doctorate in the scientific area of Gerontology | G24: course | H24: 10 | J24: =H24*I24 -> 0 | N24: =H24*M24 -> 0
B25: 15 | J25: =SUM(J22:J24) -> 0 | N25: =SUM(N22:N24) -> 0
B27: =SUM(B25+B21+B18) -> 100 | C27: TOTAL TRAINING COMPONENT, DEGREES AND ACADEMIC TITLES | J27: =J18+J21+J25 -> 0 | K27: =K15+K19+K22 -> 0 | N27: =N18+N21+N25 -> 0 | O27: =O15+O19+O22 -> 0

Sheet Technical-Scientific Component
C3: ='Candidate Identification'!B3 -> EXTERNAL COMPETITION FOR ADJUNCT PROFESSOR IN THE DISCIPLINARY AREA OF GERONTOLOGY
C7: Candidate Name: | E7: ='Candidate Identification'!C7 -> 0
C9: TECHNICAL-SCIENTIFIC COMPONENT (Weighting in the Final Score) = | F9: 0.4
B11: Parameters | C11: Dimension | D11: Item | E11: Elements to value | G11: Unidade | H11: Pontos | I11: To be completed by the candidate (columns VII and X) | M11: Jury validation
I12: Number (or fraction) of elements to be scored | J12: Total Score | K12: Score to consider | L12: Identification of supporting Annex(es) and/or Link(s). NOTE: The jury will only score the curriculum elements whose supporting documents are identified in this column of the form. | M12: Number (or fraction) of elements to be scored | N12: Total Score | O12: Score to consider | P12: JJustification for cases in which the jury does not validate the information provided by the candidate
B13: I | C13: II | D13: III | E13: IV | G13: V | H13: VI | I13: VII | J13: VIII | K13: IX | L13: X | M13: XI | N13: XII | O13: XIII | P13: XIV
B14: Technical/Scientific Production in the scientific area of the competition | C14: Publications | D14: C1 | E14: Authorship, Co-authorship of a book in the field of Gerontology/Aging, indexed in Scopus/WOS, with original scientific research (except for those resulting from compilations of previously published scientific or similar articles). | G14: book | H14: 15 | J14: =I14*H14 -> 0 | K14: =IF((J31)>B31,B31,(J31)) -> 0 | N14: =H14*M14 -> 0 | O14: =IF((N31)>B31,B31,(N31)) -> 0
D15: C2 | E15: Editor/Coordinator of a book in the area of Gerontology/aging, indexed in Scopus/WOS with original scientific research (except resulting from compilations of scientific articles or similar articles previously published). | G15: book | H15: 7.5 | J15: =I15*H15 -> 0 | N15: =H15*M15 -> 0
D16: C3 | E16: Authorship, Co-authorship of a book in the area of Gerontology/Aging, with original scientific research published with ISBN (except resulting from compilations of scientific articles or similar articles previously published). | G16: book | H16: 4 | J16: =I16*H16 -> 0 | N16: =H16*M16 -> 0
D17: C4 | E17: Editor/Coordinator of a book in the area of Gerontology/aging, with original scientific research for publication with ISBN (except resulting from compilations of scientific articles or similar articles previously published). | G17: book | H17: 2 | J17: =I17*H17 -> 0 | N17: =H17*M17 -> 0
D18: C5 | E18: Chapter or chapters of a book in the area of Gerontology/Aging, indexed to Scopus/WOS, with original scientific research (not scored in C1). | G18: chapter | H18: 8 | J18: =I18*H18 -> 0 | N18: =H18*M18 -> 0
D19: C6 | E19: Chapter or chapters of a book, in the area of Gerontology/Aging, with original scientific research by the author, published with ISBN (not scored in C3). | G19: chapter | H19: 2 | J19: =I19*H19 -> 0 | N19: =H19*M19 -> 0
D20: C7 | E20: Article in the area of Gerontology/Aging, published in a journal reviewed by SCOPUS or WOS - Q1 | F20: 1st or last author | G20: article | H20: 15 | J20: =I20*H20 -> 0 | N20: =H20*M20 -> 0
F21: other author | G21: article | H21: 10 | J21: =I21*H21 -> 0 | N21: =H21*M21 -> 0
D22: C8 | E22: Article in the area of Gerontology/Aging, published in a journal reviewed by SCOPUS or WOS - Q2. | F22: 1st or last author | G22: article | H22: 9 | J22: =I22*H22 -> 0 | N22: =H22*M22 -> 0
F23: other author | G23: article | H23: 7 | J23: =I23*H23 -> 0 | N23: =H23*M23 -> 0
D24: C9 | E24: Article in the area of Gerontology/Aging, published in a journal reviewed by SCOPUS or WOS - Q3 and Q4. | F24: 1st or last author | G24: article | H24: 6 | J24: =I24*H24 -> 0 | N24: =H24*M24 -> 0
F25: other author | G25: article | H25: 4 | J25: =I25*H25 -> 0 | N25: =H25*M25 -> 0
D26: C10 | E26: Article, in the area of Gerontology/Aging, published in a scientific journal scrutinized by another indexing system. | G26: article | H26: 2 | J26: =I26*H26 -> 0 | N26: =H26*M26 -> 0
D27: C11 | E27: Article, in the area of Gerontology/Aging, published in the minutes of a refereed technical-scientific meeting. | G27: article | H27: 0.8 | J27: =I27*H27 -> 0 | N27: =H27*M27 -> 0
C28: Communications | D28: C12 | E28: Conference/Communication in the area of Gerontology/Aging, held by invitation, at a technical-scientific event. | G28: lecture/communication | H28: 2 | J28: =I28*H28 -> 0 | N28: =H28*M28 -> 0
B29: Maximum score to consider | D29: C13 | E29: Oral presentation at a technical-scientific event in the area of Gerontology/Aging. | G29: per presentation | H29: 1 | J29: =I29*H29 -> 0 | N29: =H29*M29 -> 0
D30: C14 | E30: Poster Presentation at a Technical-Scientific Event in the Field of Gerontology/Aging. | G30: by poster | H30: 0.8 | J30: =I30*H30 -> 0 | N30: =H30*M30 -> 0
B31: 50 | C31: Subtotal | J31: =SUM(J14:J30) -> 0 | N31: =SUM(N14:N30) -> 0
B32: Projects and Scientific Coordination in the competition area | C32: Scientific Coordination | D32: C15 | E32: Coordination of a research center/unit recognized and evaluated by the FCT. | G32: center/unit | H32: 10 | J32: =H32*I32 -> 0 | K32: =IF((J43)>B43,B43,(J43)) -> 0 | N32: =H32*M32 -> 0 | O32: =IF((N43)>B43,B43,(N43)) -> 0
D33: C16 | E33: Principal Investigator/Coordinator of a scientific project in the area of Gerontology/Aging, validated by SCN or SCI with international institutions. | G33: project | H33: 8 | J33: =H33*I33 -> 0 | N33: =H33*M33 -> 0
D34: C17 | E34: Principal Investigator/Coordinator of a scientific project in the area of Gerontology/Aging, validated by SCN or SCI with national institutions. | G34: project | H34: 5 | J34: =H34*I34 -> 0 | N34: =H34*M34 -> 0
C35: Evaluation of Scientific Research Projects | D35: C18 | E35: Member of the evaluation panel for internationally funded technical-scientific projects in the area of Gerontology/Aging. | G35: project | H35: 4 | J35: =H35*I35 -> 0 | N35: =H35*M35 -> 0
D36: C19 | E36: Member of the evaluation panel for funded national technical-scientific projects in the area of Gerontology/Aging. | G36: project | H36: 3 | J36: =H36*I36 -> 0 | N36: =H36*M36 -> 0
C37: Participation in Scientific Research Projects | D37: C20 | E37: Member of a research project funded by international institutions, on a competitive basis, in the area of Gerontology/Aging. | G37: project | H37: 7 | J37: =H37*I37 -> 0 | N37: =H37*M37 -> 0
D38: C21 | E38: Member of a research project funded by FCT in the area of Gerontology/Aging. | G38: project | H38: 6 | J38: =H38*I38 -> 0 | N38: =H38*M38 -> 0
D39: C22 | E39: Member of a research project funded by other entities, on a competitive basis, in the area of Gerontology/Aging | G39: project | H39: 5 | J39: =H39*I39 -> 0 | N39: =H39*M39 -> 0
C40: Integration into Research Centers/Units | D40: C23 | E40: Integrated member of a Research Center recognized/evaluated by the FCT in the last 5 years, which includes the field of Aging | F40: Excellent | G40: center | H40: 4 | J40: =H40*I40 -> 0 | N40: =H40*M40 -> 0
B41: Maximum score to consider | F41: Very good | G41: center | H41: 3 | J41: =H41*I41 -> 0 | N41: =H41*M41 -> 0
F42: Good | G42: center | H42: 2 | J42: =H42*I42 -> 0 | N42: =H42*M42 -> 0
B43: 15 | C43: Subtotal | J43: =SUM(J32:J42) -> 0 | N43: =SUM(N32:N42) -> 0
B44: Recognition | C44: Citations of works in the competition area | D44: C24 | E44: h-index (Scopus). | G44: h-index | H44: 3 | J44: =H44*I44 -> 0 | K44: =IF((J62)>B62,B62,(J62)) -> 0 | N44: =H44*M44 -> 0 | O44: =IF((N62)>B62,B62,(N62)) -> 0
D45: C25 | E45: Citation of an article in the area of Gerontology/Aging proven in SCOPUS (except self-citations). | G45: citation | H45: 1 | J45: =H45*I45 -> 0 | N45: =H45*M45 -> 0
C46: Thesis supervision in the area of the competition | D46: C26 | E46: Supervision or Co-supervision of Doctoral theses (after completion of the doctorate), in the area of Gerontology/Aging | G46: thesis | H46: 10 | J46: =H46*I46 -> 0 | N46: =H46*M46 -> 0
D47: C27 | E47: Supervision or Co-Supervision of Master's dissertations (after completion of the Master's degree), in the area of Gerontology/Aging | G47: dissertation | H47: 5 | J47: =H47*I47 -> 0 | N47: =H47*M47 -> 0
...

Sheet Pedagogical Component
B1: Subtotal
C3: ='Candidate Identification'!B3 -> EXTERNAL COMPETITION FOR ADJUNCT PROFESSOR IN THE DISCIPLINARY AREA OF GERONTOLOGY
C7: Candidate Name: | E7: ='Candidate Identification'!C7 -> 0
C9: PEDAGOGICAL COMPONENT (Weighting in the Final Score) = | F9: 0.2
B11: Parameters | C11: Dimension | D11: Item | E11: Elements to value | G11: Unidade | H11: Pontos | I11: To be completed by the candidate (columns VII and X) | M11: Jury validation
I12: Number (or fraction) of elements to be scored | J12: Total Score | K12: Score to consider | L12: Identification of supporting Annex(es) and/or Link(s). NOTE: The jury will only score the curriculum elements whose supporting documents are identified in this column of the form. | M12: Number (or fraction) of elements to be scored | N12: Total Score | O12: Score to consider | P12: JJustification for cases in which the jury does not validate the information provided by the candidate
B13: I | C13: II | D13: III | E13: IV | G13: V | H13: VI | I13: VII | J13: VIII | K13: IX | L13: X | M13: XI | N13: XII | O13: XIII | P13: XIV
B14: Teaching Activity in Higher Education | C14: Teaching experience in Higher Education in the area of the competition | D14: P1 | E14: Number of ECTS of curricular units taught in the last five academic years in higher education courses in Gerontology. | F14: Bachelor's/Master's Degree | G14: ECTS/ano | H14: 0.5 | J14: =SUM(I14*H14) -> 0 | K14: =IF((J20)>B20,B20,(J20)) -> 0 | N14: =H14*M14 -> 0 | O14: =IF((N20)>B20,B20,(N20)) -> 0
D15: P2 | F15: PhD | G15: ECTS/ano | H15: 0.75 | J15: =I15*H15 -> 0 | N15: =H15*M15 -> 0
C16: Authorship of Curricular Unit Programs, in the area of the competition, of Higher Education courses | D16: P3 | E16: Authorship and co-authorship of curricular unit programs, prepared in the last five academic years in higher education courses in Gerontology. | F16: Bachelor's/Master's Degree | G16: UC | H16: 2 | J16: =I16*H16 -> 0 | N16: =H16*M16 -> 0
D17: P4 | F17: PhD | G17: UC | H17: 2.5 | J17: =I17*H17 -> 0 | N17: =H17*M17 -> 0
B18: Maximum score to consider | C18: Teaching in non-degree-granting training courses/ actions/ workshops, in the area of the competition, promoted by higher education institutions | D18: P5 | E18: Number of ECTS of curricular units taught in the last five academic years in Postgraduate courses in the area of Gerontology. | F18: Postgraduate studies | G18: ECTS/ano | H18: 0.25 | J18: =I18*H18 -> 0 | N18: =H18*M18 -> 0
D19: P6 | E19: Number of ECTS of curricular units taught in the last five academic years at CTESP in the area of Gerontology. | F19: CTESP | G19: ECTS/ano | H19: 0.25 | J19: =I19*H19 -> 0 | N19: =H19*M19 -> 0
B20: 40 | C20: Subtotal | J20: =SUM(J14:J19) -> 0 | N20: =SUM(N14:N19) -> 0
B21: Supervision and discussion of internships/research work/projects | C21: Supervision | D21: P7 | E21: Supervision of an internship in a CTESP course promoted by HEIs, in the area of gerontology, over the last five years. | G21: Student | H21: 0.5 | J21: =I21*H21 -> 0 | K21: =IF((J27)>B27,B27,(J27)) -> 0 | N21: =H21*M21 -> 0 | O21: =IF((N27)>B27,B27,(N27)) -> 0
D22: P8 | E22: Supervision of undergraduate internship in the area of Gerontology, in the last five years | G22: Student | H22: 0.5 | J22: =I22*H22 -> 0 | N22: =H22*M22 -> 0
D23: P9 | E23: Supervision of internship/Master's project work in the area of Gerontology/Aging, in the last five years. | G23: Student | H23: 3 | J23: =I23*H23 -> 0 | N23: =H23*M23 -> 0
D24: P10 | E24: Co-supervision of internship/Master's project work in the area of Gerontology, over the last five years. | G24: Student | H24: 1.5 | J24: =I24*H24 -> 0 | N24: =H24*M24 -> 0
C25: Arguments | D25: P11 | E25: Argument on the evaluation panel for the internship/Master's project work in the area of Gerontology/Aging (excluding Supervisors). | G25: Jury | H25: 2 | J25: =I25*H25 -> 0 | N25: =H25*M25 -> 0
B26: Maximum score to consider
B27: 25 | C27: Subtotal | J27: =SUM(J21:J26) -> 0 | N27: =SUM(N21:N26) -> 0
B28: Experience as a preschool, primary, secondary, vocational, artistic teacher and/or as a trainer in the field of competition | C28: Teaching Experience outside of higher education | D28: P12 | E28: Teaching, over the last five years, subjects in the scientific area of gerontology/aging in secondary vocational education courses. | G28: Course unit | H28: 0.5 | J28: =H28*I28 -> 0 | K28: =IF((J33)>B33,B33,(J33)) -> 0 | N28: =H28*M28 -> 0 | O28: =IF((N33)>B33,B33,(N33)) -> 0
D29: P13 | E29: Teaching, in the last five years, of training courses/actions/workshops, in the scientific area of gerontology/aging, for senior technicians - duration ≥ 100 hours. | G29: Course/action | H29: 1 | J29: =H29*I29 -> 0 | N29: =H29*M29 -> 0
D30: P14 | E30: Teaching, in the last five years, of training courses/actions/workshops, in the scientific area of gerontology/aging for senior technicians - duration ≥ 50h. | G30: Course/action | H30: 0.75 | J30: =H30*I30 -> 0 | N30: =H30*M30 -> 0
B31: Maximum score to consider | C31: Management/Coordination Functions | D31: P15 | E31: Class Management, for the last five years, of a course in the scientific area of Gerontology/aging taught at a professional education institution. | G31: Class/school year | H31: 1.5 | J31: =H31*I31 -> 0 | N31: =H31*M31 -> 0
B33: 25 | C33: Subtotal | J33: =SUM(J28:J32) -> 0 | N33: =SUM(N28:N32) -> 0
B34: Other activities of a pedagogical nature | C34: Participação e Coordenação de projetos pedagógicos | D34: P16 | E34: Responsible and/or team member responsible for preparing a CTESP proposal in the area of Gerontology/Aging, approved and put into operation at a HEI (does not include proposals for changes to an existing CTESP) | G34: course/training | H34: 3.5 | J34: =I34*H34 -> 0 | K34: =IF((J46)>B46,B20,(J46)) -> 0 | N34: =H34*M34 -> 0 | O34: =IF((N46)>B46,B20,(N46)) -> 0
D35: P17 | E35: Responsible and/or team member responsible for preparing a proposal for a new undergraduate degree in the area of Gerontology, approved and put into operation at a HEI. | G35: course/training | H35: 5 | J35: =I35*H35 -> 0 | N35: =H35*M35 -> 0
D36: P18 | E36: Responsible/Member of the team responsible for preparing a proposal for a new master's degree in the area of Gerontology/Aging, approved and put into operation at a HEI. | G36: project | H36: 6 | J36: =I36*H36 -> 0 | N36: =H36*M36 -> 0
D37: P19 | E37: Responsible/Member of the team responsible for preparing a proposal for a new postgraduate course in the area of Gerontology/Aging, approved and put into operation at a HEI. | G37: project | H37: 2.5 | J37: =I37*H37 -> 0 | N37: =H37*M37 -> 0
C38: Participação em júris de provas e/ou concursos para avaliação e/ou seriação de estudantes | D38: P20 | E38: Member of the jury for the selection and ranking of students, candidates for degree-granting courses (bachelor's, master's, doctorate). | G38: Jury | H38: 0.5 | J38: =I38*H38 -> 0 | N38: =H38*M38 -> 0
D39: P21 | E39: Member of the jury for the selection and ranking of students, candidates for non-degree higher education courses (CTESP, Postgraduate courses), taught at HEIs. | G39: Jury | H39: 0.5 | J39: =I39*H39 -> 0 | N39: =H39*M39 -> 0
C41: Organização de eventos | D41: P22 | E41: Member of the organizing committee of a scientific event in the area of Gerontology/Aging lasting more than 2 days. | G41: Action | H41: 0.75 | J41: =I41*H41 -> 0 | N41: =H41*M41 -> 0
D42: P23 | E42: Member of the organizing committee of a scientific event in the area of Gerontology/Aging lasting more than 1 day. | G42: Action | H42: 0.5 | J42: =I42*H42 -> 0 | N42: =H42*M42 -> 0
D43: P24 | E43: Member of the organizing committee of a scientific event in the area of Gerontology/Aging lasting 1 day. | G43: Action | H43: 0.25 | J43: =I43*H43 -> 0 | N43: =H43*M43 -> 0
B44: Maximum score to consider | C44: Outras | D44: P25 | E44: Production of published teaching materials in the area of Gerontology/Aging (with ISBN), not listed in the Technical-Scientific Component. | G44: Publication | H44: 2 | J44: =I44*H44 -> 0 | N44: =H44*M44 -> 0
D45: P26 | E45: Publications of a pedagogical nature in the area of Gerontology/Aging, with peer review and ISBN. | G45: Publication | H45: 3 | J45: =I45*H45 -> 0 | N45: =H45*M45 -> 0
B46: 10 | C46: Subtotal | J46: =SUM(J34:J45) -> 0 | N46: =SUM(N34:N45) -> 0
B48: =SUM(B46+B33+B27+B20) -> 100 | E48: TOTAL DA COMPONENTE PEDAGÓGICA | J48: =J20+J27+J33+J46 -> 0 | K48: =SUM(K14:K45) -> 0 | N48: =N20+N27+N33+N46 -> 0 | O48: =SUM(O14:O45) -> 0

Sheet Profess. and Organiz. Component
C2: ='Candidate Identification'!B3 -> EXTERNAL COMPETITION FOR ADJUNCT PROFESSOR IN THE DISCIPLINARY AREA OF GERONTOLOGY
C6: Candidate Name: | E6: ='Candidate Identification'!C7 -> 0
C8: PROFESSIONAL AND ORGANIZATIONAL COMPONENT (Weighting in the Final Score) = | F8: 0.15
B10: Parameters | C10: Dimension | D10: Item | E10: Elements to value | G10: Unidade | H10: Pontos | I10: To be completed by the candidate (columns VII and X) | M10: Jury validation
I11: Number (or fraction) of elements to be scored | J11: Total Score | K11: Score to consider | L11: Identification of supporting Annex(es) and/or Link(s). NOTE: The jury will only score the curriculum elements whose supporting documents are identified in this column of the form. | M11: Number (or fraction) of elements to be scored | N11: Total Score | O11: Score to consider | P11: JJustification for cases in which the jury does not validate the information provided by the candidate
B12: I | C12: II | D12: III | E12: IV | G12: V | H12: VI | I12: VII | J12: VIII | K12: IX | L12: X | M12: XI | N12: XII | O12: XIII | P12: XIV
B13: Professional Experience (outside higher education) within the scope of the Competition | C13: Professional experience as a Graduate/Senior Technician in the area of the competition (teaching is included) | D13: O1 | E13: Technical management roles in the area of Gerontology/Aging, over the last 10 years. | G13: Months | H13: 0.5 | J13: =H13*I13 -> 0 | K13: =IF((J16)>B16,B16,(J16)) -> 0 | N13: =H13*M13 -> 0 | O13: =IF((N16)>B16,B16,(N16)) -> 0
D14: O2 | E14: Team coordination functions in the area of Gerontology/Aging, over the last 10 years. | G14: Months | H14: 0.4 | J14: =H14*I14 -> 0 | N14: =H14*M14 -> 0
B15: Maximum score to consider | D15: O3 | E15: Senior technician with roles in the area of Gerontology/Aging, for the last 10 years. | G15: Months | H15: 0.3 | J15: =H15*I15 -> 0 | N15: =H15*M15 -> 0
B16: 50 | E16: Subtotal | J16: =SUM(J13:J15) -> 0 | N16: =SUM(N13:N15) -> 0
B17: Reconhecimento | C17: Organization of technical-scientific events | D17: O4 | E17: Member of the organizing committee of a technical-scientific event in the area of Gerontology/Aging lasting more than 2 days (excluding events of a pedagogical nature) | G17: Event | H17: 1 | J17: =H17*I17 -> 0 | K17: =IF((J20)>B20,B20,(J20)) -> 0 | N17: =H17*M17 -> 0 | O17: =IF((N20)>B20,B20,(N20)) -> 0
B18: Maximum score to consider | D18: O5 | E18: Member of the organizing committee of a technical-scientific event in the area of Gerontology/Aging lasting more than 1 day. | G18: Event | H18: 0.75 | J18: =H18*I18 -> 0 | N18: =H18*M18 -> 0
D19: O6 | E19: Member of the organizing committee of a technical-scientific event in the area of Gerontology/Aging lasting 1 day. | G19: Event | H19: 0.5 | J19: =H19*I19 -> 0 | N19: =H19*M19 -> 0
B20: 40 | E20: Subtotal | J20: =SUM(J17:J19) -> 0 | N20: =SUM(N17:N19) -> 0
B21: Others | C21: Others | D21: O7 | E21: Director of a professional organization/association of a technical-scientific nature in the area of Gerontology/Aging | G21: Organization | H21: 1 | J21: =H21*I21 -> 0 | K21: =IF((J23)>B23,B23,(J23)) -> 0 | N21: =H21*M21 -> 0 | O21: =IF((N23)>B23,B23,(N23)) -> 0
B22: Maximum score to consider | D22: O8 | E22: Member of a professional organization/association of a technical-scientific nature in the area of Gerontology/Aging (not scored, if scored in O8) | G22: Organization | H22: 0.25 | J22: =H22*I22 -> 0 | N22: =H22*M22 -> 0
B23: 10 | E23: Subtotal | J23: =SUM(J21:J22) -> 0 | N23: =SUM(N21:N22) -> 0
B25: =B16+B20+B23 -> 100 | C25: TOTAL PROFESSIONAL AND ORGANIZATIONAL COMPONENT | J25: =J16+J20+J23 -> 0 | K25: =SUM(K13:K23) -> 0 | N25: =N16+N20+N23 -> 0 | O25: =SUM(O13:O23) -> 0

Sheet Total Score
C3: ='Candidate Identification'!B3 -> EXTERNAL COMPETITION FOR ADJUNCT PROFESSOR IN THE DISCIPLINARY AREA OF GERONTOLOGY
C7: Candidate Name: | E7: ='Candidate Identification'!C7 -> 0
C9: RESUME SCORING
D11: SELF-COMPLETION BY THE CANDIDATE | H11: SCORE AFTER JURY VALIDATION
D12: Total Score | E12: Score to Consider | F12: Weighting factor | G12: Weighted Score | H12: Total Score | I12: Score to Consider | J12: Weighting factor | K12: Weighted Score
C13: Training Component, Degrees and Academic Titles | D13: ='Training, Degrees and Titles Co'!J27 -> 0 | E13: ='Training, Degrees and Titles Co'!K27 -> 0 | F13: ='Training, Degrees and Titles Co'!F10 -> 0.25 | G13: =E13*F13 -> 0 | H13: ='Training, Degrees and Titles Co'!N27 -> 0 | I13: ='Training, Degrees and Titles Co'!O27 -> 0 | J13: ='Training, Degrees and Titles Co'!F10 -> 0.25 | K13: =I13*J13 -> 0
C14: Technical-Scientific Component | D14: ='Technical-Scientific Component'!J64 -> 0 | E14: ='Technical-Scientific Component'!K64 -> 0 | F14: ='Technical-Scientific Component'!F9 -> 0.4 | G14: =E14*F14 -> 0 | H14: ='Technical-Scientific Component'!N64 -> 0 | I14: ='Technical-Scientific Component'!O64 -> 0 | J14: ='Technical-Scientific Component'!F9 -> 0.4 | K14: =I14*J14 -> 0
C15: Pedagogical Component | D15: ='Pedagogical Component'!J48 -> 0 | E15: ='Pedagogical Component'!K48 -> 0 | F15: ='Pedagogical Component'!F9 -> 0.2 | G15: =E15*F15 -> 0 | H15: ='Pedagogical Component'!N48 -> 0 | I15: ='Pedagogical Component'!O48 -> 0 | J15: ='Pedagogical Component'!F9 -> 0.2 | K15: =I15*J15 -> 0
C16: Professional and Organizational Component | D16: ='Profess. and Organiz. Component'!J25 -> 0 | E16: ='Profess. and Organiz. Component'!K25 -> 0 | F16: ='Profess. and Organiz. Component'!F8 -> 0.15 | G16: =E16*F16 -> 0 | H16: ='Profess. and Organiz. Component'!N25 -> 0 | I16: ='Profess. and Organiz. Component'!O25 -> 0 | J16: ='Profess. and Organiz. Component'!F8 -> 0.15 | K16: =I16*J16 -> 0
C18: Final Score (0-100) | G18: =G13+G14+G15+G16 -> 0 | K18: =K13+K14+K15+K16 -> 0
D20: TIEBREAKER CRITERIA
D21: In the event of a tie between candidates, the tiebreaker will be determined based on the best score in the following situations (use successively until the tiebreaker is obtained):
B23: 1.º | C23: Technical-Scientific Component | D23: Weighted score | E23: =K14 -> 0
B24: 2.º | D24: total score | E24: =H14 -> 0
B25: 3.º | C25: Pedagogical Component | D25: Weighted score | E25: =K15 -> 0
B26: 4.º | D26: total score | E26: =H15 -> 0
B27: 5.º | C27: Professional and Organizational Component | D27: Weighted score | E27: =K16 -> 0
B28: 6.º | D28: total score | E28: =H16 -> 0
