Workbook

Sheet Identification
A3: APPLICATION FORM FOR THE RECRUITMENT OF AN ASSISTANT RESEARCHER _ 2023.12612.TENURE.037 _ PRND/8/2025 _ Sport Sciences - Sports Training
A6: IDENTIFICATION
A8: Full name of the candidate/s:
B10: Fill only the cells with green background
B13: Notes
B14: 1- This grid with evaluation criteria and curricular score is applied to external competitions for the category of Assistant Researcher
B15: 2- The Grid defines a profile from your organization in 2levels, with the following structure:A- " Components", subdivided into severalA.1- " Parameters", which in turn integrate severalA.1.1- "Items/elements to be valued”
B16: 3- The first two levels of this organization - Componentese Parameters- The sum of the scores of the components and, within these, of the parameters must always be equal to 100 points.

Sheet Quality of scientific work
B4: APPLICATION FORM FOR THE RECRUITMENT OF AN ASSISTANT RESEARCHER _ 2023.12612.TENURE.037 _ PRND/8/2025 _ Sport Sciences - Sports Training
B5: Assessment and Scoring of the Candidate’s Curriculum
B7: Name of the candidate: | D7: =Identification!B8 -> 0
B9: Quality of scientific work | E9: 0.65
A11: Component of the Curricular Evaluation | B11: Parameters within each Component | C11: Item | D11: Elements to value | F11: Unity | G11: Points | H11: Auto-Scoring of the candidate | K11: Identification of the Annex(s) supporting document(s) | L11: Validation of the jury
H12: No (or fraction) of elements to be punctuated | I12: Total Score | J12: Score to consider | L12: No (or fraction) of elements to be punctuated | M12: Total Score | N12: Score to consider | O12: Justification for cases where the jury does not validate the information provided by the candidate
A13: I | B13: II | C13: III | D13: IV | F13: V | G13: VI | H13: VII | I13: VIII | J13: IX | K13: X | L13: XI | M13: XII | N13: XIII | O13: XIV
A14: Quality of scientific work | B14: Scientific production | C14: QTC1 | D14: Articles Q1 indexed in the Journal Citation Reports (JCR) - Clarivate (exclusively in the Science Citation Index Expanded or Social Sciences Citation Index editions) | F14: 1 | G14: 25 | I14: =G14*H14 -> 0 | M14: =G14*L14 -> 0 | N14: =IF((M17)>A17,A17,M17) -> 0
C15: QTC2 | D15: Q2 articles indexed in Journal Citation Reports (JCR) - Clarivate (exclusively in the Science Citation Index Expanded or Social Sciences Citation Index editions) | F15: 1 | G15: 15 | I15: =G15*H15 -> 0 | M15: =G15*L15 -> 0
C16: QTC3 | D16: Articles Q3 and Q4 indexed in the Journal Citation Reports (JCR) - Clarivate (exclusively in the Science Citation Index Expanded or Social Sciences Citation Index editions) | F16: 1 | G16: 3 | I16: =G16*H16 -> 0 | M16: =G16*L16 -> 0
A17: 55 | I17: =SUM(I14:I16) -> 0 | M17: =SUM(M14:M16) -> 0
A18: Quality of scientific work | B18: Coordination and participation in projects | C18: QTC4 | D18: Project Coordinator (10 points for each unit of 10000 euros funded) | F18: 1 | G18: 10 | I18: =G18*H18 -> 0 | J18: =IF((I20)>A20,A20,I20) -> 0 | M18: =G18*L18 -> 0 | N18: =IF((M20)>A20,A20,M20) -> 0
C19: QTC5 | D19: Project Participant (2 points for each unit of 10000 euros funded) | F19: 1 | G19: 2 | I19: =G19*H19 -> 0 | M19: =G19*L19 -> 0
A20: 25 | I20: =I18+I19 -> 0 | M20: =M18+M19 -> 0
A21: Quality of scientific work | B21: Intervention in the scientific community | C21: QTC6 | D21: Scholarships and Awards | F21: 1 | G21: 1 | I21: =G21*H21 -> 0 | J21: =IF((I22)>A22,A22,I22) -> 0 | M21: =G21*L21 -> 0 | N21: =IF((M22)>A22,A22,M22) -> 0
A22: 5 | I22: =SUM(I21:I21) -> 0 | M22: =SUM(M21:M21) -> 0
A23: Quality of scientific work | B23: Project | C23: QTC7 | D23: Project (up to 15 points, to be rated only by the Jury) | F23: 1 | G23: 15 | I23: =G23*H23 -> 0 | J23: =IF((I24)>A24,A24,I24) -> 0 | M23: =G23*L23 -> 0 | N23: =IF((M24)>A24,A24,M24) -> 0
A24: 15 | I24: =SUM(I23:I23) -> 0 | M24: =SUM(M23:M23) -> 0
A26: =SUM(A22+A20+A17+A24) -> 100 | B26: TOTAL OF COMPONENT | I26: =I17+I20+I22+I24 -> 0 | J26: =J14+J18+J21+J23 -> 0 | M26: =M17+M20+M22+M24 -> 0 | N26: =N14+N18+N21+N23 -> 0

Sheet Contributions to scientific
B3: APPLICATION FORM FOR THE RECRUITMENT OF AN ASSISTANT RESEARCHER _ 2023.12612.TENURE.037 _ PRND/8/2025 _ Sport Sciences - Sports Training
B5: Assessment and Scoring of the Candidate’s Curriculum
B7: Name of the candidate: | D7: =Identification!B8 -> 0
B9: Contributions to scientific orientation activities | E9: 0.15
A11: Component of the Curricular Evaluation | B11: Parameters within each Component | C11: Item | D11: Elements to value | F11: Unity | G11: Points | H11: Auto-Scoring of the candidate | K11: Identification of the Annex(s) supporting document(s) | L11: Validation of the jury
H12: No (or fraction) of elements to be punctuated | I12: Total Score | J12: Score to consider | L12: No (or fraction) of elements to be punctuated | M12: Total Score | N12: Score to consider | O12: Justification for cases where the jury does not validate the information provided by the candidate
A13: I | B13: II | D13: IV | F13: V | G13: VI | H13: VII | I13: VIII | J13: IX | K13: X | L13: XI | M13: XII | N13: XIII | O13: XIV
A14: scientific orientation | B14: Patents/registrations | C14: OC1 | D14: Patents marketed | F14: 1 | G14: 25 | I14: =G14*H14 -> 0 | J14: =IF((I17)>A17,A17,I17) -> 0 | M14: =G14*L14 -> 0 | N14: =IF((M17)>A17,A17,M17) -> 0
C15: OC2 | D15: Registration of industrial/ intellectual property | F15: 1 | G15: 10 | I15: =G15*H15 -> 0 | M15: =L15*G15 -> 0
C16: OC3 | D16: Start-Up / Spin Offs | F16: 1 | G16: 15 | I16: =G16*H16 -> 0 | M16: =G16*L16 -> 0
A17: 50 | I17: =SUM(I14:I16) -> 0 | M17: =SUM(M14:M16) -> 0
A18: scientific orientation | B18: Activities of cooperation and connection to the productive/ business fabric | C18: OC4 | D18: Coordination | F18: 1 | G18: 4 | I18: =G18*H18 -> 0 | J18: =IF((I20)>A20,A20,I20) -> 0 | M18: =G18*L18 -> 0 | N18: =IF((M20)>A20,A20,M20) -> 0
C19: OC5 | D19: Participation | F19: 1 | G19: 1 | I19: =G19*H19 -> 0 | M19: =L19*G19 -> 0
A20: 10 | I20: =I18+I19 -> 0 | M20: =M18+M19 -> 0
A21: scientific orientation | B21: Orientation students/ scholarship holders | C21: OC6 | D21: Master | F21: 1 | G21: 2 | I21: =G21*H21 -> 0 | J21: =IF((I24)>A24,A24,I24) -> 0 | M21: =L21*G21 -> 0 | N21: =IF((M24)>A24,A24,M24) -> 0
C22: OC7 | D22: Doctorate | F22: 1 | G22: 5 | I22: =G22*H22 -> 0 | M22: =L22*G22 -> 0
C23: OC8 | D23: Baggins | F23: 1 | G23: 3 | I23: =G23*H23 -> 0 | M23: =L23*G23 -> 0
A24: 30 | I24: =SUM(I21:I23) -> 0 | M24: =SUM(M21:M23) -> 0
A25: scientific orientation | B25: Disclosure | C25: OC9 | D25: dissemination/ dissemination event | F25: 1 | G25: 0.1 | I25: =G25*H25 -> 0 | J25: =IF((I26)>A26,A26,I26) -> 0 | M25: =G25*L25 -> 0 | N25: =IF((M26)>A26,A26,M26) -> 0
A26: 10 | I26: =SUM(I25:I25) -> 0 | M26: =SUM(M25:M25) -> 0
A28: =SUM(A26+A24+A20+A17) -> 100 | B28: TOTAL OF COMPONENT | I28: =I17+I20+I24+I26 -> 0 | J28: =J14+J18+J21+J25 -> 0 | M28: =M19+M22+M24+M26 -> 0 | N28: =N14+N18+N21+N25 -> 0

Sheet Experience and prof training
B3: APPLICATION FORM FOR THE RECRUITMENT OF AN ASSISTANT RESEARCHER _ 2023.12612.TENURE.037 _ PRND/8/2025 _ Sport Sciences - Sports Training
B5: Assessment and Scoring of the Candidate’s Curriculum
B7: Name of the candidate: | D7: =Identification!B8 -> 0
B9: Experience and professional training | E9: 0.1
A11: Component of the Curricular Evaluation | B11: Parameters within each Component | C11: Item | D11: Elements to value | F11: Unity | G11: Points | H11: Auto-Scoring of the candidate | K11: Identification of the Annex(s) supporting document(s) | L11: Validation of the jury
H12: No (or fraction) of elements to be punctuated | I12: Total Score | J12: Score to consider | L12: No (or fraction) of elements to be punctuated | M12: Total Score | N12: Score to consider | O12: Justification for cases where the jury does not validate the information provided by the candidate
A13: I | B13: II | D13: IV | F13: V | G13: VI | H13: VII | I13: VIII | J13: IX | K13: X | L13: XI | M13: XII | N13: XIII | O13: XIV
A14: Experience and professional training | B14: Experience and professional training | C14: EFP1 | D14: Doctorate (up to 10 points) | F14: 1 | G14: 10 | I14: =G14*H14 -> 0 | J14: =IF((I17)>A17,A17,I17) -> 0 | M14: =G14*L14 -> 0 | N14: =IF((M17)>A17,A17,M17) -> 0
C15: EFP2 | D15: Aggregation (up to 10 points) | F15: 1 | G15: 10 | I15: =G15*H15 -> 0 | M15: =G15*L15 -> 0
C16: EFP3 | D16: Assistant researcher functions (up to 10 points) | F16: 1 | G16: 10 | I16: =G16*H16 -> 0 | M16: =G16*L16 -> 0
A17: 100 | I17: =SUM(I14:I16) -> 0 | M17: =SUM(M14:M16) -> 0
A19: =A17 -> 100 | B19: TOTAL OF COMPONENT | I19: =SUM(I14:I16) -> 0 | J19: =SUM(J14:J16) -> 0 | M19: =SUM(M14:M16) -> 0 | N19: =SUM(N14) -> 0

Sheet Service comm
B3: APPLICATION FORM FOR THE RECRUITMENT OF AN ASSISTANT RESEARCHER _ 2023.12612.TENURE.037 _ PRND/8/2025 _ Sport Sciences - Sports Training
B5: Assessment and Scoring of the Candidate’s Curriculum
B7: Name of the candidate: | D7: =Identification!B8 -> 0
B9: Service to the community | E9: 0.05
A11: Component of the Curricular Evaluation | B11: Parameters within each Component | C11: Item | D11: Elements to value | F11: Unity | G11: Points | H11: Auto-Scoring of the candidate | K11: Identification of the Annex(s) supporting document(s) | L11: Validation of the jury
H12: No (or fraction) of elements to be punctuated | I12: Total Score | J12: Score to consider | L12: No (or fraction) of elements to be punctuated | M12: Total Score | N12: Score to consider | O12: Justification for cases where the jury does not validate the information provided by the candidate
A13: I | B13: II | D13: IV | F13: V | G13: VI | H13: VII | I13: VIII | J13: IX | K13: X | L13: XI | M13: XII | N13: XIII | O13: XIV
A14: Providing services to the community | B14: Arguente | C14: PS1 | D14: Master | F14: 1 | G14: 1 | I14: =G14*H14 -> 0 | J14: =IF((I16)>A16,A16,I16) -> 0 | M14: =L14*G14 -> 0 | N14: =IF((M16)>A16,A16,M16) -> 0
C15: PS2 | D15: Doctorate | F15: 1 | G15: 5 | I15: =G15*H15 -> 0 | M15: =G15*L15 -> 0
A16: 50 | I16: =SUM(I14:I15) -> 0 | M16: =M14+M15 -> 0
A17: Providing services to the community | B17: Teaching | C17: PS3 | D17: Doctorate (unit with 8 or more teaching hours) | F17: 1 | G17: 4 | I17: =G17*H17 -> 0 | J17: =IF((I19)>A19,A19,I19) -> 0 | M17: =L17*G17 -> 0 | N17: =IF((M19)>A19,A19,M19) -> 0
C18: PS4 | D18: Master’s degree (unit with 8 or more teaching hours) | F18: 1 | G18: 1 | I18: =G18*H18 -> 0 | M18: =G18*L18 -> 0
A19: 50 | I19: =SUM(I17:I18) -> 0 | M19: =M17+M18 -> 0
A21: =A16+A19 -> 100 | B21: TOTAL OF COMPONENT | I21: =I16+I19 -> 0 | J21: =J14+J17 -> 0 | M21: =M16+M19 -> 0 | N21: =N14+N17 -> 0

Sheet Management
B3: APPLICATION FORM FOR THE RECRUITMENT OF AN ASSISTANT RESEARCHER _ 2023.12612.TENURE.037 _ PRND/8/2025 _ Sport Sciences - Sports Training
B5: Assessment and Scoring of the Candidate’s Curriculum
B7: Name of the candidate: | D7: =Identification!B8 -> 0
B9: Participation in management bodies | E9: 0.05
A11: Component of the Curricular Evaluation | B11: Parameters within each Component | C11: Item | D11: Elements to value | F11: Unity | G11: Points | H11: Auto-Scoring of the candidate | K11: Identification of the Annex(s) supporting document(s) | L11: Validation of the jury
H12: No (or fraction) of elements to be punctuated | I12: Total Score | J12: Score to consider | L12: No (or fraction) of elements to be punctuated | M12: Total Score | N12: Score to consider | O12: Justification for cases where the jury does not validate the information provided by the candidate
A13: I | B13: II | D13: IV | F13: V | G13: VI | H13: VII | I13: VIII | J13: IX | K13: X | L13: XI | M13: XII | N13: XIII | O13: XIV
A14: Participation in management bodies | B14: Participation in management bodies | C14: POG1 | D14: direction | F14: 1 | G14: 10 | I14: =G14*H14 -> 0 | J14: =IF((I16)>A16,A16,I16) -> 0 | M14: =G14*L14 -> 0 | N14: =IF((M16)>A16,A16,M16) -> 0
C15: POG2 | D15: coordination | F15: 1 | G15: 2 | I15: =G15*H15 -> 0 | M15: =G15*L15 -> 0
A16: 100 | I16: =SUM(I14:I15) -> 0 | M16: =M14+M15 -> 0
A18: =A16 -> 100 | B18: TOTAL OF COMPONENT | I18: =I14+I15 -> 0 | J18: =J14+J15 -> 0 | M18: =M14+M15 -> 0 | N18: =N14+N15 -> 0

Sheet Score
B3: APPLICATION FORM FOR THE RECRUITMENT OF AN ASSISTANT RESEARCHER _ 2023.12612.TENURE.037 _ PRND/8/2025 _ Sport Sciences - Sports Training
B5: Assessment and Scoring of the Candidate’s Curriculum
B7: Name of the candidate: | D7: =Identification!B8 -> 0
B10: CURRICULUM SCORE
C11: CANDIDATE’S SELF-ASSESSMENT | G11: SCORE AFTER JURY VALIDATION
C12: Total Score | D12: Score to Consider | E12: Weighting factor | F12: Weighted Score | G12: Total Score | H12: Score to Consider | I12: Weighting factor | J12: Weighted Score
C13: i | D13: ii | E13: iii | F13: iv | G13: i | H13: ii | I13: iii | J13: iv
B14: Quality of scientific work | C14: ='[1]Qualidade trabalho científico'!I26 -> 0 | D14: ='[1]Qualidade trabalho científico'!J26 -> 0 | E14: ='[1]Qualidade trabalho científico'!E9 -> 0.65 | F14: =D14*E14 -> 0 | G14: ='[1]Qualidade trabalho científico'!M26 -> 0 | H14: ='[1]Qualidade trabalho científico'!N26 -> 0 | I14: =E14 -> 0.65 | J14: =H14*I14 -> 0
B15: Contributions to scientific orientation activities | C15: ='[1]Orientação científica'!I28 -> 0 | D15: ='[1]Orientação científica'!J28 -> 0 | E15: ='[1]Orientação científica'!E9 -> 0.15 | F15: =D15*E15 -> 0 | G15: ='[1]Orientação científica'!M28 -> 0 | H15: ='[1]Orientação científica'!N28 -> 0 | I15: =E15 -> 0.15 | J15: =H15*I15 -> 0
B16: Experience and professional training | C16: ='[1]Experiência profissional'!I19 -> 0 | D16: ='[1]Experiência profissional'!J19 -> 0 | E16: ='[1]Experiência profissional'!E9 -> 0.1 | F16: =D16*E16 -> 0 | G16: ='[1]Experiência profissional'!M19 -> 0 | H16: ='[1]Experiência profissional'!N19 -> 0 | I16: =E16 -> 0.1 | J16: =H16*I16 -> 0
B17: Provision of service | C17: ='[1]Prestação serviço'!I21 -> 0 | D17: ='[1]Prestação serviço'!J21 -> 0 | E17: ='[1]Prestação serviço'!E9 -> 0.05 | F17: =D17*E17 -> 0 | G17: ='[1]Prestação serviço'!M21 -> 0 | H17: ='[1]Prestação serviço'!N21 -> 0 | I17: =E17 -> 0.05 | J17: =H17*I17 -> 0
B18: Participation in management bodies | C18: ='[1]Órgãos gestão'!I18 -> 0 | D18: ='[1]Órgãos gestão'!J18 -> 0 | E18: 0.05 | F18: =D18*E18 -> 0 | G18: ='[1]Órgãos gestão'!M18 -> 0 | H18: ='[1]Órgãos gestão'!N18 -> 0 | I18: =E18 -> 0.05 | J18: =H18*I18 -> 0
B20: Final Score _ sum of column iv (value of 0-100) | F20: =F14+F15+F16+F17+F18 -> 0 | J20: =J14+J15+J16+J17 -> 0
B23: TIE BREAK CRITERIA
B24: In the event of a tie between candidates, a tie-break will be made by taking as criterion the best score in the following situations (use successively until the tie-break is obtained):
B25: 1.º | C25: ='Quality of scientific work'!I18 -> 0 | D25: Total score in Project Coordinator (10 points for each unit of 10000 euros funded)
B26: 2.º | C26: ='Quality of scientific work'!I23 -> 0 | D26: Total score in Project (up to 15 points)
B27: 3.º | C27: =F14 -> 0 | D27: Weighted score in Quality of scientific work
B28: 4.º | C28: =C14 -> 0 | D28: Total score on Quality of scientific work
B29: 5.º | C29: ='Contributions to scientific'!I17 -> 0 | D29: Total score in Patents/Registrations
