Workbook

Sheet Identificação do Candidato
B3: CONCURSO EXTERNO PARA PROFESSOR ADJUNTO NA ÁREA DISCIPLINAR DE GERONTOLOGIA
B5: IDENTIFICAÇÃO
B7: Nome completo do/a candidato/a:
B10: CONDIÇÕES DE ADMISSÃO AO CONCURSO/DOUTORAMENTO (ponto 5.3 do edital)
B12: Designação do Programa de Doutoramento:
B14: Especialidade:
B16: Título da Tese:
B18: Instituição Conferente do Grau de Doutor:
B20: Faculdade/Departamento/Escola:
B22: Ano de Conclusão:
B24: CONDIÇÕES DE ADMISSÃO AO CONCURSO/TITULO DE ESPECIALISTA (ponto 5.3 do Edital)
B26: Designação do Titulo de Especialista:
... B34: Ano de concessão:

Sheet Regras de Preenchimento
C3: CONCURSO EXTERNO PARA PROFESSOR ADJUNTO
C8: Regras de preenchimento da grelha e de pontuação dos elementos curriculares
C11: 1. Os candidatos formalizam a candidatura através do preenchimento Formulário de Candidatura. Para o fazer devem, para além dos elementos de Identificação: (i) preencher, para cada Componente, a coluna VII da Grelha, indicando o número de elementos do seu CV que se enquadram em cada um dos itens; (ii) identificar, na coluna X da grelha, os anexos (ou links para documentos online de acesso público livre) que documentam cada um dos elementos indicados. Por exemplo, se o candidato indica na coluna VII do item H1, da Componente Formação, Graus e Titulos, que tem 2 licenciaturas, deverá indicar na coluna X que o Anexo H1.1 -corrresponde ao diploma da lic. X e o anexo H1.2 - corresponde ao diploma da lic. X2. Deve colocar cada anexo em ficheiro pdf separado.
C12: 2. Os candidatos assumem a responsabilidade pela correspondência entre os elementos curriculares do seu currículo e os itens da grelha. O júri não reposiciona elementos curriculares em itens diferentes daqueles que o candidato identificou. Na análise da adequação dos seus elementos curriculares aos itens da Grelha os candidatos devem ter em consideração o enquadramento da ação, não só no item causa, mas também na "Componente", "Parametro" e "Dimensão" em que esse item se encontra.
C13: 3. Salvo indicação explícita em contrário, apenas são pontuados os elementos curriculares que se relacionem com a área científica/disciplinar em que o concurso é aberto.
C14: 4. Os elementos curriculares apenas são pontuados num único item da grelha. O candidato deve indicar cada elemento cirricular em apenas um único item, sob pena de esse elemento curricular não ser considerado em nenhum dos itens da sua avaliação.
C15: 5. O candidato deve anexar ao seu CV os documentos comprovativos dos elementos curriculares indicados na Formulário de candidatuira ou disponibilizar no Formulário da Candidatuta (coluna X) os links para documentos que estejam disponíveis online, em sitios de acesso público e livre.
C16: 6. Os anexos e/ou links devem ser apresentados com a identificação do item (cf. coluna III da Grelha), seguido do nome do documento (exemplos: H1 - Diploma de.. , H2 - Certidão de ...). No caso de haver mais do que um anexo para cada item, acrescentar o número sequencial à identificação do anexo ( exemplo: H1.1 - Dipoma de ..., H1.2- Diploma de ..., etc).
C17: 7. Os documentos entregues para comprovarem as ações indicadas pelos candidatos devem corresponder de forma clara e direta aos elementos a que se refere o item em questão, sob pena de não serem considerados.
C18: 8. A grelha regista a "pontuação total" obtida pelos candidatos (coluna VIII), assim como a "pontuação a considerar" em cada "Parâmetro", tendo por referência o valor máximo a pontuar que esteja definido e indicado para cada um dos Parâmetros (coluna I) das diversas Componentes da Grelha. Em cada componente, na última linha da respetiva grelha, apresenta-se a Pontuação Total e a Pontuação a Considerar obtida pelo candidato nessa Componente .
C19: 9. No último separador da Grelha - Pontuação Total - são apresentadas todas as pontuações que resultam do preenchimento da grelha pelo candidato. A pontuação que resulta da avaliação do júri também irá aparecer neste separador após a análise feita pelo júri aos elementos da candidatura.
C20: NOTAS:
... C23: b. A pontuação registada nas colunas VIII e IX é meramente informativa. A pontuação da candidatura é a que resultará da análise do júri e será registada nas colunas XII e XIII.

Sheet Componente Formação, Graus e Ti
C3: ='Identificação do Candidato'!B3 -> CONCURSO EXTERNO PARA PROFESSOR ADJUNTO NA ÁREA DISCIPLINAR DE GERONTOLOGIA
C8: Nome do Candidato: | E8: ='Identificação do Candidato'!C7 -> 0
C10: COMPONENTE FORMAÇÃO, GRAUS E TÍTULOS ACADÉMICOS (Ponderação na Pontuação Final) = | F10: 0.25
B12: Parâmetros | C12: Dimensão | D12: Item | E12: Elementos a valorizar | G12: Unidade | H12: Pontos | I12: A preencher pelo candidato (colunas VII e X) | M12: Validação do júri
I13: Nº (ou fracção) de elementos a pontuar | J13: Pontuação Total | K13: Pontuação a considerar | L13: Identificação do(s) Anexo(s) e/ou Links comprovativo(s). NOTA: O júri só pontuará os elementos curriculares cujos comprovativos estejam identificados nesta coluna do formulário | M13: Nº (ou fracção) de elementos a pontuar | N13: Pontuação Total | O13: Pontuação a considerar | P13: Justificação para os casos em que o júri não valida a informação fornecida pelo candidato
B14: I | C14: II | D14: III | E14: IV | G14: V | H14: VI | I14: VII | J14: VIII | K14: IX | L14: X | M14: XI | N14: XII | O14: XIII | P14: XIV
B15: Graus Académicos (excepto doutoramento que é condição de acesso) | C15: Formação Inicial e Pós-Graduada | D15: H1 | E15: Licenciatura na área científica da Gerontologia | G15: curso | H15: 35 | J15: =H15*I15 -> 0 | K15: =IF((J18)>B18,B18,(J18)) -> 0 | N15: =H15*M15 -> 0 | O15: =IF((N18)>B18,B18,(N18)) -> 0
B17: Pontuação máxima a considerar | D17: H2 | E17: Mestrado na área científica da Gerontologia | G17: curso | H17: 30 | J17: =H17*I17 -> 0 | N17: =H17*M17 -> 0
B18: 65 | J18: =SUM(J15:J17) -> 0 | N18: =SUM(N15:N17) -> 0
B19: Títulos Académicos | C19: Titulos Pós-Doutoramento | D19: H3 | E19: Agregação na área científica da Gerontologia | G19: título | H19: 20 | J19: =H19*I19 -> 0 | K19: =IF((J21)>B21,B21,(J21)) -> 0 | N19: =H19*M19 -> 0 | O19: =IF((N21)>B21,B21,(N21)) -> 0
B20: Pontuação máxima a considerar
B21: 20 | J21: =J19 -> 0 | N21: =N19 -> 0
B22: Outro Tipo de Formação na área do concurso | C22: Pós-Graduações realizadas em Instituições de Ensino Superior | D22: H4 | E22: Pós-Graduações na área científica da Gerontologia, com 60 ou mais ECTS | G22: curso | H22: 5 | J22: =H22*I22 -> 0 | K22: =IF((J25)>B25,B25,(J25)) -> 0 | N22: =H22*M22 -> 0 | O22: =IF((N25)>B25,B25,(N25)) -> 0
D23: H5 | E23: Pós-Graduações na área científica da Gerontologia, com 30 ou mais ECTS | G23: curso | H23: 2.5 | J23: =H23*I23 -> 0 | N23: =H23*M23 -> 0
B24: Pontuação máxima a considerar | D24: H6 | E24: Pós-Doutoramento na área científica da Gerontologia | G24: curso | H24: 10 | J24: =H24*I24 -> 0 | N24: =H24*M24 -> 0
B25: 15 | J25: =SUM(J22:J24) -> 0 | N25: =SUM(N22:N24) -> 0
B27: =SUM(B25+B21+B18) -> 100 | C27: TOTAL DA COMPONENTE FORMAÇÃO, GRAUS E TÍTULOS ACADÉMICOS | J27: =J18+J21+J25 -> 0 | K27: =K15+K19+K22 -> 0 | N27: =N18+N21+N25 -> 0 | O27: =O15+O19+O22 -> 0

Sheet Componente Técnico-Científica
C3: ='Identificação do Candidato'!B3 -> CONCURSO EXTERNO PARA PROFESSOR ADJUNTO NA ÁREA DISCIPLINAR DE GERONTOLOGIA
C7: Nome do Candidato: | E7: ='Identificação do Candidato'!C7 -> 0
C9: COMPONENTE TÉCNICO-CIENTÍFICA (Ponderação na Pontuação Final) = | F9: 0.4
B11: Parâmetros | C11: Dimensão | D11: Item | E11: Elementos a valorizar | G11: Unidade | H11: Pontos | I11: A preencher pelo candidato (colunas VII e X) | M11: Validação do júri
I12: Nº (ou fracção) de elementos a pontuar | J12: Pontuação Total | K12: Pontuação a considerar | L12: Identificação do(s) Anexo(s) e/ou Links comprovativo(s). NOTA: O júri só pontuará os elementos curriculares cujos comprovativos estejam identificados nesta coluna do formulário | M12: Nº (ou fracção) de elementos a pontuar | N12: Pontuação Total | O12: Pontuação a considerar | P12: Justificação para os casos em que o júri não valida a informação fornecida pelo candidato
B13: I | C13: II | D13: III | E13: IV | G13: V | H13: VI | I13: VII | J13: VIII | K13: IX | L13: X | M13: XI | N13: XII | O13: XIII | P13: XIV
B14: Produção Técnica/ Científica na área científica do concurso | C14: Publicações | D14: C1 | E14: Autoria, Coautoria de livro na área de Gerontologia/ Envelhecimento, indexado à Scopus/WOS, com investigação científica original (exceto resultante de compilações de artigos científicos ou similares já publicados anteriormente). | G14: livro | H14: 15 | J14: =I14*H14 -> 0 | K14: =IF((J31)>B31,B31,(J31)) -> 0 | N14: =H14*M14 -> 0 | O14: =IF((N31)>B31,B31,(N31)) -> 0
D15: C2 | E15: Editor/Coordenador de livro na área de Gerontologia/ envelhecimento, indexado à Scopus/WOS com investigação científica original (exceto resultante de compilações de artigos científicos ou similares já publicados anteriormente). | G15: livro | H15: 7.5 | J15: =I15*H15 -> 0 | N15: =H15*M15 -> 0
D16: C3 | E16: Autoria, Coautoria de livro na área de Gerontologia/ Envelhecimento, com investigação científica original de edição com ISBN (exceto resultante de compilações de artigos científicos ou similares já publicados anteriormente). | G16: livro | H16: 4 | J16: =I16*H16 -> 0 | N16: =H16*M16 -> 0
D17: C4 | E17: Editor/Coordenador de livro na área de Gerontologia/ envelhecimento, com investigação científica original de edição com ISBN (exceto resultante de compilações de artigos científicos ou similares já publicados anteriormente). | G17: livro | H17: 2 | J17: =I17*H17 -> 0 | N17: =H17*M17 -> 0
D18: C5 | E18: Capítulo ou capítulos de livro na área de Gerontologia/ Envelhecimento, indexado à Scopus/ WOS, com investigação científica original (não pontuado em C1). | G18: capítulo | H18: 8 | J18: =I18*H18 -> 0 | N18: =H18*M18 -> 0
D19: C6 | E19: Capítulo ou capítulos de livro, na área da Gerontologia/ Envelhecimento, com investigação científica original e do próprio, de edição com ISBN (não pontuado em C3). | G19: capítulo | H19: 2 | J19: =I19*H19 -> 0 | N19: =H19*M19 -> 0
D20: C7 | E20: Artigo na área da Gerontologia/ Envelhecimento, publicado em revista escrutinada pela SCOPUS ou WOS - Q1 | F20: 1.º ou último autor | G20: artigo | H20: 15 | J20: =I20*H20 -> 0 | N20: =H20*M20 -> 0
F21: outro autor | G21: artigo | H21: 10 | J21: =I21*H21 -> 0 | N21: =H21*M21 -> 0
D22: C8 | E22: Artigo na área da Gerontologia/ Envelhecimento, publicado em revista escrutinada pela SCOPUS ou WOS - Q2. | F22: 1.º ou último autor | G22: artigo | H22: 9 | J22: =I22*H22 -> 0 | N22: =H22*M22 -> 0
F23: outro autor | G23: artigo | H23: 7 | J23: =I23*H23 -> 0 | N23: =H23*M23 -> 0
D24: C9 | E24: Artigo na área da Gerontologia/ Envelhecimento, publicado em revista escrutinada pela SCOPUS ou WOS - Q3 e Q 4. | F24: 1.º ou último autor | G24: artigo | H24: 6 | J24: =I24*H24 -> 0 | N24: =H24*M24 -> 0
F25: outro autor | G25: artigo | H25: 4 | J25: =I25*H25 -> 0 | N25: =H25*M25 -> 0
D26: C10 | E26: Artigo, na área de Gerontologia/ Envelhecimento, publicado em revista científica escrutinada por outro sistema de indexação. | G26: artigo | H26: 2 | J26: =I26*H26 -> 0 | N26: =H26*M26 -> 0
D27: C11 | E27: Artigo, na área de Gerontologia/ Envelhecimento, publicado em ata de encontro técnico-científico com arbitragem. | G27: artigo | H27: 0.8 | J27: =I27*H27 -> 0 | N27: =H27*M27 -> 0
C28: Comunicações | D28: C12 | E28: Conferência/Comunicação na área de Gerontologia/Envelhecimento, realizada por convite, em evento técnico-científico. | G28: palestra/comunicação | H28: 2 | J28: =I28*H28 -> 0 | N28: =H28*M28 -> 0
B29: Pontuação máxima a considerar: | D29: C13 | E29: Apresentação oral em evento Técnico-científico da área de Gerontologia/ Envelhecimento. | G29: por apresentação | H29: 1 | J29: =I29*H29 -> 0 | N29: =H29*M29 -> 0
D30: C14 | E30: Apresentação de Póster em evento Técnico-científico da área de Gerontologia/ Envelhecimento. | G30: por póster | H30: 0.8 | J30: =I30*H30 -> 0 | N30: =H30*M30 -> 0
B31: 50 | C31: Sub-Total | J31: =SUM(J14:J30) -> 0 | N31: =SUM(N14:N30) -> 0
B32: Projetos e Coordenação Científica na área do concurso | C32: Coordenação Científica | D32: C15 | E32: Coordenação de centro/unidade de investigação reconhecido e avaliado pela FCT. | G32: centro/unidade | H32: 10 | J32: =H32*I32 -> 0 | K32: =IF((J43)>B43,B43,(J43)) -> 0 | N32: =H32*M32 -> 0 | O32: =IF((N43)>B43,B43,(N43)) -> 0
D33: C16 | E33: Investigador Responsável/Coordenador de projeto científico na área da Gerontologia/ Envelhecimento, validado por SCN ou SCI com instituições internacionais. | G33: projeto | H33: 8 | J33: =H33*I33 -> 0 | N33: =H33*M33 -> 0
D34: C17 | E34: Investigador Responsável/Coordenador de projeto científico na área de Gerontologia/ Envelhecimento, validado por SCN ou SCI com instituições nacionais. | G34: projeto | H34: 5 | J34: =H34*I34 -> 0 | N34: =H34*M34 -> 0
C35: Avaliação de Projetos de Investigação Científica | D35: C18 | E35: Membro de painel de avaliação de projetos técnico-científicos internacionais financiados, na área da Gerontologia/ Envelhecimento. | G35: projeto | H35: 4 | J35: =H35*I35 -> 0 | N35: =H35*M35 -> 0
D36: C19 | E36: Membro de painel de avaliação de projetos técnico-científicos nacionais financiados, na área da Gerontologia/ Envelhecimento. | G36: projeto | H36: 3 | J36: =H36*I36 -> 0 | N36: =H36*M36 -> 0
C37: Participação em Projetos de Investigação Científica | D37: C20 | E37: Membro em projeto de investigação financiado por instituições internacionais, com base competitiva, na área de Gerontologia/ Envelhecimento. | G37: projeto | H37: 7 | J37: =H37*I37 -> 0 | N37: =H37*M37 -> 0
D38: C21 | E38: Membro em projeto de investigação financiado pela FCT na área de Gerontologia/ Envelhecimento. | G38: projeto | H38: 6 | J38: =H38*I38 -> 0 | N38: =H38*M38 -> 0
D39: C22 | E39: Membro em projeto de investigação financiado por outras entidades, numa base competitiva, na área de Gerontologia/ Envelhecimento | G39: projeto | H39: 5 | J39: =H39*I39 -> 0 | N39: =H39*M39 -> 0
C40: Integração em Centros/Unidades de Investigação | D40: C23 | E40: Membro integrado de Centro de Investigação reconhecido/avaliado pela FCT nos últimos 5 anos, que inclua o domínio do Envelhecimento | F40: Excelente | G40: centro | H40: 4 | J40: =H40*I40 -> 0 | N40: =H40*M40 -> 0
B41: Pontuação máxima a considerar: | F41: Muito Bom | G41: centro | H41: 3 | J41: =H41*I41 -> 0 | N41: =H41*M41 -> 0
F42: Bom | G42: centro | H42: 2 | J42: =H42*I42 -> 0 | N42: =H42*M42 -> 0
B43: 15 | C43: Sub-Total | J43: =SUM(J32:J42) -> 0 | N43: =SUM(N32:N42) -> 0
B44: Reconhecimento | C44: Citações de trabalhos na área do concurso | D44: C24 | E44: Indice h (Scopus). | G44: h-index | H44: 3 | J44: =H44*I44 -> 0 | K44: =IF((J62)>B62,B62,(J62)) -> 0 | N44: =H44*M44 -> 0 | O44: =IF((N62)>B62,B62,(N62)) -> 0
D45: C25 | E45: Citação de artigo na área de GerontologIa/ Envelhecimento comprovada na SCOPUS (exceto auto-citações). | G45: citação | H45: 1 | J45: =H45*I45 -> 0 | N45: =H45*M45 -> 0
C46: Orientação de teses na área do concurso | D46: C26 | E46: Orientação ou Co-orientação de teses de Doutoramento (após a conclusão do doutoramento), na área de Gerontologia/ Envelhecimento | G46: tese | H46: 10 | J46: =H46*I46 -> 0 | N46: =H46*M46 -> 0
D47: C27 | E47: Orientação ou Co-Orientação de dissertações de mestrado (após a conclusão do mestrado), na área de Gerontologia/ Envelhecimento | G47: dissertação | H47: 5 | J47: =H47*I47 -> 0 | N47: =H47*M47 -> 0
C48: Participação em Júris de provas para atribuição de grau ou titulo ou em júris para atribuição de prémios | D48: C28 | E48: Arguente principal de prova Pública de Doutoramento na área de Gerontologia/ Envelhecimento | G48: tese | H48: 5 | J48: =H48*I48 -> 0 | N48: =H48*M48 -> 0
D49: C29 | E49: Membro de júri de provas de doutoramento na área de Gerontologia/ Envelhecimento (excluem-se orientadores e inerências) | G49: júri | H49: 2.5 | J49: =H49*I49 -> 0 | N49: =H49*M49 -> 0
D50: C30 | E50: Membro de júri de atribuição do título de especialista na área de Gerontologia/ Envelhecimento | G50: júri | H50: 2.5 | J50: =H50*I50 -> 0 | N50: =H50*M50 -> 0
D51: C31 | E51: Arguente de provas públicas de mestrado (excluem-se os Orientadores) na área de Gerontologia/ Envelhecimento | G51: júri | H51: 1.5 | J51: =H51*I51 -> 0 | N51: =H51*M51 -> 0
C52: Participação em comissões científicas de revistas | D52: C32 | E52: Membro da Advisory Board/ Scientific Board de revista científica da área de Gerontologia/ Envelhecimento indexada à SCOPUS/ WOS | G52: revista | H52: 2.5 | J52: =H52*I52 -> 0 | N52: =H52*M52 -> 0
C53: Participação em tarefas de revisão de artigos ou textos científicos/técnicos publicados | D53: C33 | E53: Revisão de artigos científicos, na área de Gerontologia/ Envelhecimento, em revistas indexadas à SCOPUS/ WOS | G53: artigo | H53: 3 | J53: =H53*I53 -> 0 | N53: =H53*M53 -> 0
D54: C34 | E54: Revisão de livros indexados à Scopus/WOS, na área de Gerontologia/ Envelhecimento | G54: livro | H54: 3.5 | J54: =H54*I54 -> 0 | N54: =H54*M54 -> 0
D55: C35 | E55: Revisão de capítulos em livros indexados à Scopus/WOS, na área de Gerontologia/ Envelhecimento | G55: capitulo | H55: 1.5 | J55: =H55*I55 -> 0 | N55: =H55*M55 -> 0
D56: C36 | E56: Revisão de livros na área de Gerontologia/ Envelhecimento | G56: livro | H56: 1.5 | J56: =H56*I56 -> 0 | N56: =H56*M56 -> 0
D57: C37 | E57: Revisão de capítulos em livros na área de Gerontologia/ Envelhecimento | G57: capítulo | H57: 0.5 | J57: =H57*I57 -> 0 | N57: =H57*M57 -> 0
D58: C38 | E58: Revisão de trabalhos em evento técnico-científico da área de Gerontologia/ Envelhecimento | G58: trabalho | H58: 0.5 | J58: =H58*I58 -> 0 | N58: =H58*M58 -> 0
C59: Colaboração em eventos Científicos na área científica em que está inserido | D59: C39 | E59: Participação em comissão científica de eventos Técnico-científicos de área da Gerontologia/ Envelhecimento | G59: evento | H59: 0.5 | J59: =H59*I59 -> 0 | N59: =H59*M59 -> 0
B60: Pontuação máxima a considerar: | D60: C40 | E60: Moderação de sessão de eventos científicos da área de Gerontologia/ Envelhecimento | G60: sessão | H60: 0.25 | J60: =H60*I60 -> 0 | N60: =H60*M60 -> 0
B62: 35 | C62: Sub-Total | J62: =SUM(J44:J61) -> 0 | N62: =SUM(N44:N61) -> 0
B64: =SUM(B62+B43+B31) -> 100 | C64: TOTAL DA COMPONENTE TÉCNICO-CIENTÍFICA | J64: =J31+J43+J62 -> 0 | K64: =K14+K32+K44 -> 0 | N64: =N31+N43+N62 -> 0 | O64: =O14+O32+O44 -> 0

Sheet Componente Pedagógica
C3: ='Identificação do Candidato'!B3 -> CONCURSO EXTERNO PARA PROFESSOR ADJUNTO NA ÁREA DISCIPLINAR DE GERONTOLOGIA
C7: Nome do Candidato: | E7: ='Identificação do Candidato'!C7 -> 0
C9: COMPONENTE PEDAGÓGICA (Ponderação na Pontuação Final) = | F9: 0.2
B11: Parâmetros | C11: Dimensão | D11: Item | E11: Elementos a valorizar | G11: Unidade | H11: Pontos | I11: A preencher pelo candidato (colunas VII e X) | M11: Validação do júri
I12: Nº (ou fracção) de elementos a pontuar | J12: Pontuação Total | K12: Pontuação a considerar | L12: Identificação do(s) Anexo(s) e/ou Links comprovativo(s). NOTA: O júri só pontuará os elementos curriculares cujos comprovativos estejam identificados nesta coluna do formulário | M12: Nº (ou fracção) de elementos a pontuar | N12: Pontuação Total | O12: Pontuação a considerar | P12: Justificação para os casos em que o júri não valida a informação fornecida pelo candidato
B13: I | C13: II | D13: III | E13: IV | G13: V | H13: VI | I13: VII | J13: VIII | K13: IX | L13: X | M13: XI | N13: XII | O13: XIII | P13: XIV
B14: Atividade Letiva no ensino superior | C14: Experiência docente no Ensino Superior na área do concurso | D14: P1 | E14: Número de ECTS de unidades curriculares, lecionadas nos últimos cinco anos letivos em cursos superiores de Gerontologia. | F14: Licenciatura /Mestrado | G14: ECTS/ano | H14: 0.5 | J14: =SUM(I14*H14) -> 0 | K14: =IF((J20)>B20,B20,(J20)) -> 0 | N14: =H14*M14 -> 0 | O14: =IF((N20)>B20,B20,(N20)) -> 0
D15: P2 | F15: Doutoramento | G15: ECTS/ano | H15: 0.75 | J15: =I15*H15 -> 0 | N15: =H15*M15 -> 0
C16: Autoria de Programas de Unidades Curriculares, na área do concurso, de cursos do Ensino Superior | D16: P3 | E16: Autoria e coautoria de Programas de unidade curricular, elaborados nos últimos cinco anos letivos em cursos superiores de Gerontologia. | F16: Licenciatura /Mestrado | G16: UC | H16: 2 | J16: =I16*H16 -> 0 | N16: =H16*M16 -> 0
D17: P4 | F17: Doutoramento | G17: UC | H17: 2.5 | J17: =I17*H17 -> 0 | N17: =H17*M17 -> 0
B18: Pontuação máxima a considerar: | C18: Lecionação em cursos/ações/oficinas de formação não conferentes de grau, na área do concurso, promovidos por instituições do ensino superior | D18: P5 | E18: Número de ECTS de unidades curriculares, lecionadas nos últimos cinco anos letivos em cursos de Pós-graduação na área da Gerontologia. | F18: Pós-Graduação | G18: ECTS/ano | H18: 0.25 | J18: =I18*H18 -> 0 | N18: =H18*M18 -> 0
D19: P6 | E19: Número de ECTS de unidades curriculares, lecionadas nos últimos cinco anos letivos em CTESP na área da Gerontologia. | F19: CTESP | G19: ECTS/ano | H19: 0.25 | J19: =I19*H19 -> 0 | N19: =H19*M19 -> 0
B20: 40 | C20: Sub-total | J20: =SUM(J14:J19) -> 0 | N20: =SUM(N14:N19) -> 0
B21: Orientação e Arguição de estágios/trabalhos de investigação/projetos | C21: Orientações | D21: P7 | E21: Orientação de estágio de curso de CTESP promovido por IES, na área de gerontologia, nos últimos cinco anos. | G21: Aluno | H21: 0.5 | J21: =I21*H21 -> 0 | K21: =IF((J27)>B27,B27,(J27)) -> 0 | N21: =H21*M21 -> 0 | O21: =IF((N27)>B27,B27,(N27)) -> 0
D22: P8 | E22: Orientação de estágio de Licenciatura na área de Gerontologia, nos últimos cinco anos | G22: Aluno | H22: 0.5 | J22: =I22*H22 -> 0 | N22: =H22*M22 -> 0
D23: P9 | E23: Orientação de estágio/ trabalho de projeto de Mestrado na área de Gerontologia/ Envelhecimento, nos últimos cinco anos. | G23: Aluno | H23: 3 | J23: =I23*H23 -> 0 | N23: =H23*M23 -> 0
D24: P10 | E24: Coorientação de estágio / trabalho de projeto de Mestrado na área de Gerontologia, nos últimos cinco anos. | G24: Aluno | H24: 1.5 | J24: =I24*H24 -> 0 | N24: =H24*M24 -> 0
C25: Arguições | D25: P11 | E25: Arguente no júri de avaliação de estágio / trabalho de projeto de Mestrado na área de Gerontologia/ Envelhecimento (excluem-se os Orientadores). | G25: Júri | H25: 2 | J25: =I25*H25 -> 0 | N25: =H25*M25 -> 0
B26: Pontuação máxima a considerar:
B27: 25 | C27: Sub-total | J27: =SUM(J21:J26) -> 0 | N27: =SUM(N21:N26) -> 0
B28: Experiência como docente do pré-escolar, ensino básico, secundário, profissional, artístico e/ou como formador na área do concurso | C28: Experiência Letiva fora do ensino superior | D28: P12 | E28: Lecionação, nos últimos cinco anos, de UC da área científica da gerontologia/ envelhecimento em cursos de ensino profissional secundário. | G28: UC | H28: 0.5 | J28: =H28*I28 -> 0 | K28: =IF((J33)>B33,B33,(J33)) -> 0 | N28: =H28*M28 -> 0 | O28: =IF((N33)>B33,B33,(N33)) -> 0
D29: P13 | E29: Lecionação, nos últimos cinco anos, de cursos/ações/oficinas de Formação, na área científica da gerontologia/ envelhecimento, para técnicos superiores - duração ≥ a 100 horas. | G29: Curso/ ação | H29: 1 | J29: =H29*I29 -> 0 | N29: =H29*M29 -> 0
D30: P14 | E30: Lecionação, nos últimos cinco anos, de cursos/ações/oficinas de Formação, na área científica da gerontologia/ envelhecimento para técnicos superiores - duração ≥ 50h. | G30: Curso/ ação | H30: 0.75 | J30: =H30*I30 -> 0 | N30: =H30*M30 -> 0
B31: Pontuação máxima a considerar: | C31: Funções de Gestão/ Coordenação | D31: P15 | E31: Direção de Turma, nos últimos cinco anos, de curso na área científica da Gerontologia/ envelhecimento ministrado em estabelecimento de ensino profissional. | G31: Turma/ano letivo | H31: 1.5 | J31: =H31*I31 -> 0 | N31: =H31*M31 -> 0
B33: 25 | C33: Sub-total | J33: =SUM(J28:J32) -> 0 | N33: =SUM(N28:N32) -> 0
B34: Outras atividades de natureza pedagógica | C34: Participação e Coordenação de projetos pedagógicos | D34: P16 | E34: Responsável e/ou Membro de equipa responsável pela elaboração de proposta de CTESP, na área de Gerontologia/ Envelhecimento, aprovada e colocada em funcionamento numa IES (não inclui proposta de alterações de CTESP existente) | G34: curso/formação | H34: 3.5 | J34: =I34*H34 -> 0 | K34: =IF((J46)>B46,B20,(J46)) -> 0 | N34: =H34*M34 -> 0 | O34: =IF((N46)>B46,B20,(N46)) -> 0
D35: P17 | E35: Responsável e/ou Membro de equipa responsável pela elaboração de proposta de novo curso de licenciatura na área da Gerontologia, aprovada e colocada em funcionamento numa IES. | G35: curso/formação | H35: 5 | J35: =I35*H35 -> 0 | N35: =H35*M35 -> 0
D36: P18 | E36: Responsável /Membro de equipa responsável pela elaboração de proposta de novo mestrado na área da Gerontologia/ Envelhecimento, aprovada e colocada em funcionamento numa IES. | G36: projeto | H36: 6 | J36: =I36*H36 -> 0 | N36: =H36*M36 -> 0
D37: P19 | E37: Responsável /Membro de equipa responsável pela elaboração de proposta de novo curso de pós-graduação na área da Gerontologia/ Envelhecimento, aprovada e colocada em funcionamento numa IES. | G37: projeto | H37: 2.5 | J37: =I37*H37 -> 0 | N37: =H37*M37 -> 0
C38: Participação em júris de provas e/ou concursos para avaliação e/ou seriação de estudantes | D38: P20 | E38: Membro de júri para seleção e seriação de estudantes, candidatos a cursos conferentes de grau (licenciatura, mestrado, doutoramento). | G38: Júri | H38: 0.5 | J38: =I38*H38 -> 0 | N38: =H38*M38 -> 0
D39: P21 | E39: Membro de júri para seleção e seriação de estudantes, candidatos a cursos superiores não conferentes de grau (CTESP, Pós-Graduações), ministradas em IES. | G39: Júri | H39: 0.5 | J39: =I39*H39 -> 0 | N39: =H39*M39 -> 0
C41: Organização de eventos | D41: P22 | E41: Membro de Comissão organizadora de evento científico na área de Gerontologia/ Envelhecimento com duração superior a 2 dias. | G41: Ação | H41: 0.75 | J41: =I41*H41 -> 0 | N41: =H41*M41 -> 0
D42: P23 | E42: Membro de Comissão organizadora de evento científico na área da Gerontologia/ Envelhecimento com duração superior a 1 dia. | G42: Ação | H42: 0.5 | J42: =I42*H42 -> 0 | N42: =H42*M42 -> 0
D43: P24 | E43: Membro de Comissão organizadora de evento científico na área de Gerontologia/ Envelhecimento com duração de 1 dia. | G43: Ação | H43: 0.25 | J43: =I43*H43 -> 0 | N43: =H43*M43 -> 0
B44: Pontuação máxima a considerar: | C44: Outras | D44: P25 | E44: Produção de materiais pedagógicos na área de Gerontologia/ Envelhecimento publicados (com ISBN), não cotados na Componente Técnico-Científica. | G44: Publicação | H44: 2 | J44: =I44*H44 -> 0 | N44: =H44*M44 -> 0
D45: P26 | E45: Publicações de natureza pedagógica na área de Gerontologia/Envelhecimento, com revisão de pares e com ISBN. | G45: Publicação | H45: 3 | J45: =I45*H45 -> 0 | N45: =H45*M45 -> 0
B46: 10 | C46: Sub-total | J46: =SUM(J34:J45) -> 0 | N46: =SUM(N34:N45) -> 0
B48: =SUM(B46+B33+B27+B20) -> 100 | E48: TOTAL DA COMPONENTE PEDAGÓGICA | J48: =J20+J27+J33+J46 -> 0 | K48: =SUM(K14:K45) -> 0 | N48: =N20+N27+N33+N46 -> 0 | O48: =SUM(O14:O45) -> 0

Sheet Componente Profissional e Organ
C2: ='Identificação do Candidato'!B3 -> CONCURSO EXTERNO PARA PROFESSOR ADJUNTO NA ÁREA DISCIPLINAR DE GERONTOLOGIA
C6: Nome do Candidato: | E6: ='Identificação do Candidato'!C7 -> 0
C8: COMPONENTE PROFISSIONAL E ORGANIZACIONAL ( Ponderação na Pontuação Final) = | F8: 0.15
B10: Parâmetros | C10: Dimensão | D10: Item | E10: Elementos a valorizar | G10: Unidade | H10: Pontos | I10: A preencher pelo candidato (colunas VII e X) | M10: Validação do júri
I11: Nº (ou fracção) de elementos a pontuar | J11: Pontuação Total | K11: Pontuação a considerar | L11: Identificação do(s) Anexo(s) e/ou Links comprovativo(s). NOTA: O júri só pontuará os elementos curriculares cujos comprovativos estejam identificados nesta coluna do formulário | M11: Nº (ou fracção) de elementos a pontuar | N11: Pontuação Total | O11: Pontuação a considerar | P11: Justificação para os casos em que o júri não valida a informação fornecida pelo candidato
B12: I | C12: II | D12: III | E12: IV | G12: V | H12: VI | I12: VII | J12: VIII | K12: IX | L12: X | M12: XI | N12: XII | O12: XIII | P12: XIV
B13: Experiência Profissional (fora do ensino superior) no âmbito da área do Concurso | C13: Experiência profissional como Licenciado/Técnico Superior na área do concurso (exetua-se docência) | D13: O1 | E13: Funções de direção técnica na área de Gerontologia/Envelhecimento, nos últimos 10 anos. | G13: Meses | H13: 0.5 | J13: =H13*I13 -> 0 | K13: =IF((J16)>B16,B16,(J16)) -> 0 | N13: =H13*M13 -> 0 | O13: =IF((N16)>B16,B16,(N16)) -> 0
D14: O2 | E14: Funções de coordenação de equipas na área de Gerontologia/Envelhecimento, nos últimos 10 anos. | G14: Meses | H14: 0.4 | J14: =H14*I14 -> 0 | N14: =H14*M14 -> 0
B15: Pontuação máxima a considerar: | D15: O3 | E15: Técnico superior com funções na área de Gerontologia/Envelhecimento, nos últimos 10 anos. | G15: Meses | H15: 0.3 | J15: =H15*I15 -> 0 | N15: =H15*M15 -> 0
B16: 50 | J16: =SUM(J13:J15) -> 0 | N16: =SUM(N13:N15) -> 0
B17: Reconhecimento | C17: Organização de eventos técnico-científicos | D17: O4 | E17: Membro de Comissão organizadora de evento técnico-científico na área de Gerontologia/ Envelhecimento com duração superior a 2 dias (excluindo eventos de natureza pedagógica) | G17: Evento | H17: 1 | J17: =H17*I17 -> 0 | K17: =IF((J20)>B20,B20,(J20)) -> 0 | N17: =H17*M17 -> 0 | O17: =IF((N20)>B20,B20,(N20)) -> 0
B18: Pontuação máxima a considerar: | D18: O5 | E18: Membro de Comissão organizadora de evento técnico-científico na área de Gerontologia/ Envelhecimento com duração superior a 1 dia. | G18: Evento | H18: 0.75 | J18: =H18*I18 -> 0 | N18: =H18*M18 -> 0
D19: O6 | E19: Membro de Comissão organizadora de evento técnico-científico na área de Gerontologia/ Envelhecimento com duração de 1 dia. | G19: Evento | H19: 0.5 | J19: =H19*I19 -> 0 | N19: =H19*M19 -> 0
B20: 40 | J20: =SUM(J17:J19) -> 0 | N20: =SUM(N17:N19) -> 0
B21: Outros | C21: Outros | D21: O7 | E21: Dirigente de organização/ associação profissional de natureza técnica-científica na área de Gerontologia/ Envelhecimento | G21: Organização | H21: 1 | J21: =H21*I21 -> 0 | K21: =IF((J23)>B23,B23,(J23)) -> 0 | N21: =H21*M21 -> 0 | O21: =IF((N23)>B23,B23,(N23)) -> 0
B22: Pontuação máxima a considerar: | D22: O8 | E22: Membro de organização/ associação profissional de natureza técnica-científica na área de Gerontologia/ Envelhecimento (não pontuada, se pontuado em O8) | G22: Organização | H22: 0.25 | J22: =H22*I22 -> 0 | N22: =H22*M22 -> 0
B23: 10 | J23: =SUM(J21:J22) -> 0 | N23: =SUM(N21:N22) -> 0
B25: =B16+B20+B23 -> 100 | C25: TOTAL DA COMPONENTE PROFISSIONAL E ORGANIZACIONAL | J25: =J16+J20+J23 -> 0 | K25: =SUM(K13:K23) -> 0 | N25: =N16+N20+N23 -> 0 | O25: =SUM(O13:O23) -> 0

Sheet Pontuação Total
C3: ='Identificação do Candidato'!B3 -> CONCURSO EXTERNO PARA PROFESSOR ADJUNTO NA ÁREA DISCIPLINAR DE GERONTOLOGIA
C7: Nome do Candidato: | E7: ='Identificação do Candidato'!C7 -> 0
C9: PONTUAÇÃO DO CURRICULO
D11: AUTO-PREENCHIMENTO PELO CANDIDATO | H11: PONTUAÇÃO APÓS VALIDAÇÃO DO JÚRI
D12: Pontuação Total | E12: Pontuação a Considerar | F12: Factor de ponderação | G12: Pontuação Ponderada | H12: Pontuação Total | I12: Pontuação a Considerar | J12: Factor de ponderação | K12: Pontuação Ponderada
C13: Componente Formação, Graus e Titulos Académicos | D13: ='Componente Formação, Graus e Ti'!J27 -> 0 | E13: ='Componente Formação, Graus e Ti'!K27 -> 0 | F13: ='Componente Formação, Graus e Ti'!F10 -> 0.25 | G13: =E13*F13 -> 0 | H13: ='Componente Formação, Graus e Ti'!N27 -> 0 | I13: ='Componente Formação, Graus e Ti'!O27 -> 0 | J13: ='Componente Formação, Graus e Ti'!F10 -> 0.25 | K13: =I13*J13 -> 0
C14: Componente Técnico-Científica | D14: ='Componente Técnico-Científica'!J64 -> 0 | E14: ='Componente Técnico-Científica'!K64 -> 0 | F14: ='Componente Técnico-Científica'!F9 -> 0.4 | G14: =E14*F14 -> 0 | H14: ='Componente Técnico-Científica'!N64 -> 0 | I14: ='Componente Técnico-Científica'!O64 -> 0 | J14: ='Componente Técnico-Científica'!F9 -> 0.4 | K14: =I14*J14 -> 0
C15: Componente Pedagógica | D15: ='Componente Pedagógica'!J48 -> 0 | E15: ='Componente Pedagógica'!K48 -> 0 | F15: ='Componente Pedagógica'!F9 -> 0.2 | G15: =E15*F15 -> 0 | H15: ='Componente Pedagógica'!N48 -> 0 | I15: ='Componente Pedagógica'!O48 -> 0 | J15: ='Componente Pedagógica'!F9 -> 0.2 | K15: =I15*J15 -> 0
C16: Componente Profissional e Organizacional | D16: ='Componente Profissional e Organ'!J25 -> 0 | E16: ='Componente Profissional e Organ'!K25 -> 0 | F16: ='Componente Profissional e Organ'!F8 -> 0.15 | G16: =E16*F16 -> 0 | H16: ='Componente Profissional e Organ'!N25 -> 0 | I16: ='Componente Profissional e Organ'!O25 -> 0 | J16: ='Componente Profissional e Organ'!F8 -> 0.15 | K16: =I16*J16 -> 0
C18: Pontuação Final (0-100) | G18: =G13+G14+G15+G16 -> 0 | K18: =K13+K14+K15+K16 -> 0
D20: CRITÉRIOS DE DESEMPATE
D21: Em caso de empate entre candidatos, o desempate será feito tendo por critério a melhor pontuação nas seguintes situações (usar sucessivamente até se obter o desempate):
B23: 1.º | C23: Componente Técnico-científica | D23: Pontuação ponderada | E23: =K14 -> 0
B24: 2.º | D24: pontuação total | E24: =H14 -> 0
B25: 3.º | C25: Componente pedagógica | D25: Pontuação ponderada | E25: =K15 -> 0
B26: 4.º | D26: pontuação total | E26: =H15 -> 0
B27: 5.º | C27: Componente profissional e organizacional | D27: Pontuação ponderada | E27: =K16 -> 0
B28: 6.º | D28: pontuação total | E28: =H16 -> 0
