Workbook

Sheet NOTA para o Júri
C10: Notas Relativas à Organização da Grelha
C12: 1- Esta grelha com critérios de avaliação e pontuação curricular foi aprovada pelo CTC da ESEC e funciona como "grelha-padrão" .
C13: 2- A Grelha define um perfil de professor adjunto a partir da sua organização em 4 níveis – que vão de dimensões mais gerais e abstratas até elementos curriculares concretos a valorizar na avaliação dos candidatos –, com a seguinte estrutura: A- “Componentes”, subdivididas em vários A.1- “Parâmetros”, que, por sua vez, integram várias A.1.1- “Dimensões” que se organizam em torno de vários A.1.1.1. “Itens/elementos a valorizar”
C14: 3- Os dois primeiros níveis desta organização – Componentes e Parâmetros – são determinados pelo CTC , por proposta do GCD . A pontuação destes dois níveis é, também, fixada pelo CTC da ESEC por proposta do GCD , tendo sempre em consideração os intervalos que estão aprovadas e que são apresentados. A soma das pontuações das componentes e, dentro destas, dos parametros deve ser sempre igual a 100 pontos.
C15: 4- Os terceiro e quarto níveis – Dimensões e Itens/Elementos a valorizar – que constam da "grelha-padrão" são propostas apresentadas pelo CTC aos júris. Os júris poderão, de forma fundamentada, fazer alterações a estes dois últimos níveis de forma a torná-los mais adaptados às áreas científicas específicas do procedimento em causa, nomeadamente, a introdução ou eliminação de “Dimensões” ou de “Itens/Elementos a valorizar”, bem como a alteração da pontuação de cada “Item/Elemento a valorizar”. Estas propostas de alteração devem manter sempre a coerência destes níveis mais concretos (Dimensões e Itens/Elementos a valorizar) com os dois níveis mais gerais da grelha-padrão (Componentes e Parâmetros) a que correspondam. O júri deverá comunicar estas propostas ao CTC.
C16: 5- A informação a preencher pelo CTC está sombreada a Azul, a informação a preencher pelo Candidato está sombreada a Verde e a informação a preencher pelo júri está sombreada a Amarelo.

Sheet Identificação do Candidato
B6: RECRUTAMENTO POR MOBILIDADE DE DOCENTE NA CATEGORIA DE PROFESSOR ADJUNTO
B7: Área do processo de Recrutamento em Mobilidade:
C8: Turismo
B10: IDENTIFICAÇÃO DO/A CANDIDATO/A
B12: Nome completo do/a candidato/a:
B14: CONDIÇÕES DE ADMISSÃO AO CONCURSO/DOUTORAMENTO
B16: Designação do Programa de Doutoramento:
B18: Especialidade:
B20: Título da Tese:
B22: Instituição Conferente do Grau de Doutor:
B24: Faculdade/Departamento/Escola:
B26: Ano de Conclusão:
B28: CONDIÇÕES DE ADMISSÃO AO CONCURSO/TITULO DE ESPECIALISTA
B30: Designação do Titulo de Especialista:
B32: Título do Trabalho apresentado:
... B38: Ano de concessão:

Sheet Regras de Preenchimento
C3: RECRUTAMENTO POR MOBILIDADE DE DOCENTE NA CATEGORIA DE PROFESSOR ADJUNTO
C8: Regras de instrução da candidatura
C11: 1. Os candidatos formalizam a candidatura através do autopreenchimento da Grelha de Avaliação Curricular. Para o fazerem devem: (i) preencher a coluna VII da Grelha, indicando o número de elementos do seu CV que se enquadram em cada um dos itens; (ii) identificar, na coluna X da grelha, os anexos (ou links para documentos online) que documentam cada um dos elementos indicados.
C12: 2. Os candidatos assumem a responsabilidade pela correspondência entre os elementos curriculares do seu currículo e os itens da grelha. O júri não reposiciona elementos curriculares em itens diferentes daqueles que o candidato identificou.
C13: 3. Salvo indicação explícita em contrário, apenas são pontuados os elementos curriculares que se relacionem com a área científica/disciplinar em que o recrutamento em mobilidade é aberto.
C14: 4. Salvo indicação em contrário na Grelha, o elemento curricular apenas deve ser pontuado num único item da grelha. Se o candidato colocar o mesmo elemento curricular em vários itens o júri apenas considerará aquele em que obtém a maior pontuação.
C15: 5. O candidato deve anexar os documentos comprovativos dos elementos curriculares indicados ou disponibilizar links para documentos que estejam disponíveis online.
C16: 6. A grelha regista a "pontuação total" obtida pelos candidatos (coluna VIII), assim como a "pontuação a considerar" em cada "Parametro" tendo por referência o valor máximo a pontuar que esteja definido e indicado para cada um dos Parametros (coluna I) das diversas Componentes da Grelha. Em cada componente, na ultima linha da respetiva grelha apresenta-se a Pontuação Total e a Pontuação a Considerar obtida pelo candidato nessa Componente (e também a que resulta da validação do júri).
C17: 7. No último separador da Grelha - Pontuação Total - são apresentadas todas as pontuações obtidas em cada Componente pelo candidato (e também a que resulta da validação do júri), assim como a Pontuação Final obtida pelo candidato na sua avaliação curricular.

Sheet Componente Formação, Graus e Ti
C3: RECRUTAMENTO POR MOBILIDADE DE DOCENTE NA CATEGORIA DE PROFESSOR ADJUNTO
C4: ='Identificação do Candidato'!B7 -> Área do processo de Recrutamento em Mobilidade:
C5: ='Identificação do Candidato'!C8 -> Turismo
C8: Nome do Candidato: | E8: ='Identificação do Candidato'!C12 -> 0
C10: COMPONENTE FORMAÇÃO, GRAUS E TÍTULOS ACADÉMICOS (Ponderação na Pontuação Final - entre 15% e 25%, a decidir pelo CTC por proposta do GCD que propõe a abertura do concurso) = | F10: 0.15
B12: Parâmetros | C12: Dimensão | D12: Item | E12: Elementos a valorizar | G12: Unidade | H12: Pontos | I12: Auto-Pontuação do candidato | M12: Validação do júri
I13: Nº (ou fracção) de elementos a pontuar | J13: Pontuação Total | K13: Pontuação a considerar | L13: Identificação do(s) Anexo(s) comprovativo(s) | M13: Nº (ou fracção) de elementos a pontuar | N13: Pontuação Total | O13: Pontuação a considerar | P13: Justificação para os casos em que o júri não valida a informação fornecida pelo candidato
B14: I | C14: II | D14: III | E14: IV | G14: V | H14: VI | I14: VII | J14: VIII | K14: IX | L14: X | M14: XI | N14: XII | O14: XIII | P14: XIV
B15: Graus Académicos (excepto doutoramento que é condição de acesso) | C15: Formação Inicial e Pós-Graduada | D15: H1 | E15: Licenciatura na área científica do concurso (conforme Edital) | G15: curso | H15: 30 | J15: =H15*I15 -> 0 | K15: =IF((J18)>B18,B18,(J18)) -> 0 | N15: =H15*M15 -> 0 | O15: =IF((N18)>B18,B18,(N18)) -> 0
B17: Pontuação máxima a considerar (entre 55 e 65, a decidir pelo CTC por proposta do GCD que propõe a abertura do concurso) | D17: H2 | E17: Mestrado na área científica do concurso (conforme Edital) | G17: curso | H17: 30 | J17: =H17*I17 -> 0 | N17: =H17*M17 -> 0
B18: 65 | J18: =SUM(J15:J17) -> 0 | N18: =SUM(N15:N17) -> 0
B19: Títulos Académicos | C19: Titulos Pós Doutoramento | D19: H3 | E19: Agregação na área do Concurso | G19: titulo | H19: 20 | J19: =H19*I19 -> 0 | K19: =IF((J22)>B22,B22,(J22)) -> 0 | N19: =H19*M19 -> 0 | O19: =IF((N22)>B22,B22,(N22)) -> 0
C20: Titulo de Especialista (só se o candidato for doutorado na área do concurso) | D20: H4 | E20: Especialista na área do concurso | G20: titulo | H20: 15 | J20: =H20*I20 -> 0 | N20: =H20*M20 -> 0
B21: Pontuação máxima a considerar (entre 15 e 25, a decidir pelo CTC por proposta do GCD que propõe a abertura do concurso)
B22: 15 | J22: =J19+J20 -> 0 | N22: =N19+N20 -> 0
B23: Outro Tipo de Formação na área do concurso | C23: Pós-Graduações | D23: H5 | E23: Pós-Graduações ou Formação Especializada na área do concurso, com 30 ou mais ECTS | G23: curso | H23: 5 | J23: =H23*I23 -> 0 | K23: =IF((J27)>B27,B27,(J27)) -> 0 | N23: =H23*M23 -> 0 | O23: =IF((N27)>B27,B27,(N27)) -> 0
D24: H6 | E24: Pós Doutoramentos na área do concurso | G24: curso | H24: 7 | J24: =H24*I24 -> 0 | N24: =H24*M24 -> 0
C25: Outros cursos de Formação Contínua | D25: H7 | E25: cursos de formação contínua, na área do concurso ou em pedagogia, de duração ≥ 25h | G25: curso | H25: 2 | J25: =H25*I25 -> 0 | N25: =H25*M25 -> 0
B26: Pontuação máxima a considerar (entre 15 e 25, a decidir pelo CTC por proposta do GCD que propõe a abertura do concurso) | D26: H8 | E26: cursos de formação contínua, na área do concurso ou em pedagogia, de duração < 25 horas | G26: curso | H26: 1 | J26: =H26*I26 -> 0 | N26: =H26*M26 -> 0
B27: 20 | J27: =SUM(J23:J26) -> 0 | N27: =SUM(N23:N26) -> 0
B29: =SUM(B27+B22+B18) -> 100 | C29: TOTAL DA COMPONENTE TÉCNICO-CIENTÍFICA | J29: =J18+J22+J27 -> 0 | K29: =K15+K19+K23 -> 0 | N29: =N18+N22+N27 -> 0 | O29: =O15+O19+O23 -> 0

Sheet Componente Técnico-Científica
C3: RECRUTAMENTO POR MOBILIDADE DE DOCENTE NA CATEGORIA DE PROFESSOR ADJUNTO
C4: ='Identificação do Candidato'!B7 -> Área do processo de Recrutamento em Mobilidade:
C5: ='Identificação do Candidato'!C8 -> Turismo
C7: Nome do Candidato: | E7: ='Identificação do Candidato'!C12 -> 0
C9: COMPONENTE TÉCNICO-CIENTÍFICA (Ponderação na Pontuação Final - entre 30% e 50% -, a decidir pelo CTC por proposta do GCD que propõe a abertura do concurso) = | F9: 0.5
B11: Parâmetros (Nota: a pontuação Máxima dos 3 parâmetros tem de ser igual a 100 pontos) | C11: Dimensão | D11: Item | E11: Elementos a valorizar | G11: Unidade | H11: Pontos | I11: Auto-Pontuação do candidato | M11: Validação do júri
I12: Nº (ou fracção) de elementos a pontuar | J12: Pontuação Total | K12: Pontuação a considerar | L12: Identificação do(s) Anexo(s) comprovativo(s) | M12: Nº (ou fracção) de elementos a pontuar | N12: Pontuação Total | O12: Pontuação a considerar | P12: Justificação para os casos em que o júri não valida a informação fornecida pelo candidato
B13: I | C13: II | D13: III | E13: IV | G13: V | H13: VI | I13: VII | J13: VIII | K13: IX | L13: X | M13: XI | N13: XII | O13: XIII | P13: XIV
B14: Produção Técnica/ Científica/ Artística/ Desportiva na área científica do concurso ou área afim | C14: Publicações | D14: C1 | E14: Autoria, Coautoria de obra com investigação científica original, de edição com ISBN (*exceto resultante de compilações de artigos científicos ou similares) | G14: livro, CD, DVD | H14: 13.5 | J14: =I14*H14 -> 0 | K14: =IF((J51)>B51,B51,(J51)) -> 0 | N14: =H14*M14 -> 0 | O14: =IF((N51)>B51,B51,(N51)) -> 0
D15: C2 | E15: Editor/Coordenador de obra com investigação científica original de edição com ISBN (*exceto resultante de compilações de artigos científicos ou similares) | G15: livro ou Obra | H15: 7.5 | J15: =I15*H15 -> 0 | N15: =H15*M15 -> 0
D16: C3 | E16: Capítulo ou capítulos de livro com investigação científica original e do próprio, de edição com ISBN um livro de edição com ISBN (não pontuado em C1) | G16: capitulo | H16: 4.5 | J16: =I16*H16 -> 0 | N16: =H16*M16 -> 0
D17: C4 | E17: Capítulo ou capítulos de um livro de divulgação ténico-científica ou artística destinado ao publico geral com ISBN (não pontuados em C1) | G17: capitulo | H17: 2.5 | J17: =I17*H17 -> 0 | N17: =H17*M17 -> 0
D18: C5 | E18: Artigo em revista escrutinada pela ISI ou SCOPUS - Q1 | G18: artigo | H18: 12 | J18: =I18*H18 -> 0 | N18: =H18*M18 -> 0
D19: C6 | E19: Resumo publicado em revista escrutinada pela ISI ou SCOPUS - Q1 | G19: resumo | H19: 7 | J19: =I19*H19 -> 0 | N19: =H19*M19 -> 0
D20: C7 | E20: Artigo em revista escrutinada pela ISI ou SCOPUS - Q2 | G20: artigo | H20: 9 | J20: =I20*H20 -> 0 | N20: =H20*M20 -> 0
D21: C8 | E21: Resumo publicado em revista escrutinada pela ISI ou SCOPUS - Q2 | G21: resumo | H21: 4.5 | J21: =I21*H21 -> 0 | N21: =H21*M21 -> 0
D22: C9 | E22: Artigo em revista escrutinada pela ISI ou SCOPUS - Q3 e 4 | G22: artigo | H22: 7 | J22: =I22*H22 -> 0 | N22: =H22*M22 -> 0
D23: C10 | E23: Resumo publicado em revista escrutinada pela ISI ou SCOPUS - Q3 e 4 | G23: resumo | H23: 3.5 | J23: =I23*H23 -> 0 | N23: =H23*M23 -> 0
D24: C11 | E24: Artigo em revista escrutinada por outro sistema de indexação | G24: artigo | H24: 5 | J24: =I24*H24 -> 0 | N24: =H24*M24 -> 0
D25: C12 | E25: Resumo publicado em revista escrutinada por outro sistema de indexação | G25: resumo | H25: 2.5 | J25: =I25*H25 -> 0 | N25: =H25*M25 -> 0
D26: C13 | E26: Artigo técnico-científico ou de indole artistica em revista não escrutinada por sistemas de indexação | G26: artigo | H26: 2 | J26: =I26*H26 -> 0 | N26: =H26*M26 -> 0
... D30: C17 | E30: Artigo em revista técnico-profissional ou artistica | G30: artigo | H30: 2 | J30: =I30*H30 -> 0 | N30: =H30*M30 -> 0
C31: Comunicações | D31: C18 | E31: Palestra/Comunicação ou performance artistica realizada por convite de instituição em evento técnico-científico ou artístico | G31: palestra/comunicação/ performance | H31: 4.5 | J31: =I31*H31 -> 0 | N31: =H31*M31 -> 0
D32: C19 | E32: Apresentação oral em evento Técnico-científico | G32: apresentação | H32: 3 | J32: =I32*H32 -> 0 | N32: =H32*M32 -> 0
D33: C20 | E33: Poster em evento Técnico-científico | G33: poster | H33: 3 | J33: =I33*H33 -> 0 | N33: =H33*M33 -> 0
D34: C21 | E34: Resumo de trabalho em evento Técnico-científico | G34: resumo | H34: 2.5 | J34: =I34*H34 -> 0 | N34: =H34*M34 -> 0
C35: Produção Artística e Desportiva | D35: C22 | E35: Realização de exposição individual, nas áreas da arte e/ou do design | G35: exposição | H35: 20 | J35: =I35*H35 -> 0 | N35: =H35*M35 -> 0
D36: C23 | E36: Participação em exposição coletiva, nas áreas da arte e/ou do design | G36: exposição | H36: 10 | J36: =I36*H36 -> 0 | N36: =H36*M36 -> 0
D37: C24 | E37: Obtenção de bolsas nas áreas da arte e/ou do design, com duração igual ou superior a 1 ano | G37: bolsa | H37: 15 | J37: =I37*H37 -> 0 | N37: =H37*M37 -> 0
D38: C25 | E38: Autoria de obra artística nos domínios consignados no Dec-Lei 63/85 (Código do Direito de Autor e dos Direitos Conexos), com apresentação pública | G38: obra | H38: 13.5 | J38: =I38*H38 -> 0 | N38: =H38*M38 -> 0
D39: C26 | E39: Coautoria de obra artística, nos domínios consignados no Dec-Lei 63/85 (Código do Direito de Autor e dos Direitos Conexos), com apresentação pública | G39: obra | H39: 7.5 | J39: =I39*H39 -> 0 | N39: =H39*M39 -> 0
D40: C27 | E40: Coordenação de Projeto Artístico | G40: projeto | H40: 7 | J40: =I40*H40 -> 0 | N40: =H40*M40 -> 0
D41: C28 | E41: Produção de obra artística | G41: obra | H41: 7 | J41: =I41*H41 -> 0 | N41: =H41*M41 -> 0
D42: C29 | E42: Performance Desportiva | G42: Açao / Performance | H42: 8 | J42: =I42*H42 -> 0 | N42: =H42*M42 -> 0
D43: C30 | E43: Performance de Dança e Movimento | G43: Evento / Performance | H43: 8 | J43: =I43*H43 -> 0 | N43: =H43*M43 -> 0
D44: C31 | E44: Programa Regular de Desporto, Atividade Física e Motricidade | G44: Ação / Ano | H44: 12 | J44: =I44*H44 -> 0 | N44: =H44*M44 -> 0
D45: C32 | E45: Evento Unidisciplinar / Multidisciplinar de Desporto | G45: Ação / Ano | H45: 7 | J45: =I45*H45 -> 0 | N45: =H45*M45 -> 0
C46: Inovação & Desenvolvimento | D46: C33 | E46: Patente, modelo de utilidade ou design internacional concedido | G46: patente | H46: 30 | J46: =I46*H46 -> 0 | N46: =H46*M46 -> 0
B47: Pontuação máxima a considerar (entre 40 e 50, a decidir pelo CTC por proposta do GCD que propõe a abertura do concurso) | D47: C34 | E47: Patente, modelo de utilidade ou design nacional concedido | G47: patente | H47: 18 | J47: =I47*H47 -> 0 | N47: =H47*M47 -> 0
D48: C35 | E48: Pedido definitivo de patente | G48: pedido | H48: 9 | J48: =I48*H48 -> 0 | N48: =H48*M48 -> 0
...

Sheet Componente Pedagógica
C3: RECRUTAMENTO POR MOBILIDADE DE DOCENTE NA CATEGORIA DE PROFESSOR ADJUNTO
C4: ='Identificação do Candidato'!B7 -> Área do processo de Recrutamento em Mobilidade:
C5: ='Identificação do Candidato'!C8 -> Turismo
C7: Nome do Candidato: | E7: ='Identificação do Candidato'!C12 -> 0
C9: COMPONENTE PEDAGÓGICA (Ponderação na Pontuação Final - entre 15% e 35% -, a decidir pelo CTC por proposta do GCD que propõe a abertura do concurso) = | F9: 0.2
B11: Parâmetros | C11: Dimensão | D11: Item | E11: Elementos a valorizar | G11: Unidade | H11: Pontos | I11: Auto-Pontuação do candidato | M11: Validação do júri
I12: Nº (ou fracção) de elementos a pontuar | J12: Pontuação Total | K12: Pontuação a considerar | L12: Identificação do(s) Anexo(s) comprovativo(s) | M12: Nº (ou fracção) de elementos a pontuar | N12: Pontuação Total | O12: Pontuação a considerar | P12: Justificação para os casos em que o júri não valida a informação fornecida pelo candidato
B13: I | C13: II | D13: III | E13: IV | G13: V | H13: VI | I13: VII | J13: VIII | K13: IX | L13: X | M13: XI | N13: XII | O13: XIII | P13: XIV
B14: Atividade Letiva no ensino superior | C14: Experiência docente no Ensino Superior na área do concurso | D14: P1 | E14: Número de ECTS de unidades curriculares/unidades de formação diferentes, lecionadas nos últimos dez anos letivos em cursos superiores | F14: Na área científica/disciplinar do concurso | G14: ECTS/ano | H14: 0.5 | J14: =SUM(I14*H14) -> 0 | K14: =IF((J20)>B20,B20,(J20)) -> 0 | N14: =H14*M14 -> 0 | O14: =IF((N20)>B20,B20,(N20)) -> 0
D15: P2 | F15: Noutras áreas científicas/disciplinares | G15: ECTS/ano | H15: 0.2 | J15: =I15*H15 -> 0 | N15: =H15*M15 -> 0 | P15: 1
C16: Autoria de Programas de Unidades Curriculares, na área do concurso, de cursos do Ensino Superior | D16: P3 | E16: Autoria e coautoria de Programas de unidade curricular /unidade de formação diferentes, na área do concurso, elaborados nos últimos dez anos letivos em cursos superiores | F16: Na área científica/disciplinar do concurso | G16: UC | H16: 5 | J16: =I16*H16 -> 0 | N16: =H16*M16 -> 0
D17: P4 | F17: Noutras áreas científicas/disciplinares | G17: UC | H17: 2.5 | J17: =I17*H17 -> 0 | N17: =H17*M17 -> 0 | P17: 1
B18: Pontuação máxima a considerar (entre 30 e 40, a decidir pelo CTC por proposta do GCD que propõe a abertura do concurso) | C18: Lecionação em cursos/ações/oficinas de formação não conferentes de grau, na área do concurso, promovidos por instituições do ensino superior | D18: P5 | E18: Lecionação de cursos/ações/oficinas de formação e unidades curriculares não conferentes de grau, promovidos por instituições de ensino superior | F18: ≥ 25 | G18: curso | H18: 3 | J18: =I18*H18 -> 0 | N18: =H18*M18 -> 0
D19: P6 | F19: < 25 | G19: curso | H19: 1.5 | J19: =I19*H19 -> 0 | N19: =H19*M19 -> 0
B20: 40 | J20: =SUM(J14:J19) -> 0 | N20: =SUM(N14:N19) -> 0
B21: Orientação e Arguição de estágios/trabalhos de investigação/projetos | C21: Orientações (não pontuado em P1 e P2) | D21: P7 | E21: Orientação de estágio de curso de CTESP | G21: Aluno | H21: 0.65 | J21: =I21*H21 -> 0 | K21: =IF((J29)>B29,B29,(J29)) -> 0 | N21: =H21*M21 -> 0 | O21: =IF((N29)>B29,B29,(N29)) -> 0
D22: P8 | E22: Orientação de estágio/trabalho de investigação/projeto de Licenciatura | G22: Aluno | H22: 0.65 | J22: =I22*H22 -> 0 | L22: 1 | N22: =H22*M22 -> 0
D23: P9 | E23: Coorientação de estágio/trabalho de investigação/projeto de Licenciatura | G23: Aluno | H23: 0.35 | J23: =I23*H23 -> 0 | N23: =H23*M23 -> 0
D24: P10 | E24: Orientação de estágio profissionalizante, dissertação ou trabalho de projeto de Mestrado | G24: Aluno | H24: 2.6 | J24: =I24*H24 -> 0 | N24: =H24*M24 -> 0
D25: P11 | E25: Coorientação de estágio profissionalizante, dissertação ou trabalho de projeto de Mestrado | G25: Aluno | H25: 2 | J25: =I25*H25 -> 0 | N25: =H25*M25 -> 0
C26: Arguições (não pontuado em P1 e P2) | D26: P12 | E26: Arguente no júri de avaliação de estágio de CTESP (excluem-se os Orientadores) | G26: Júri | H26: 2 | J26: =I26*H26 -> 0 | N26: =H26*M26 -> 0
B27: Pontuação máxima a considerar (entre 15 e 25, a decidir pelo CTC por proposta do GCD que propõe a abertura do concurso) | D27: P13 | E27: Arguente no júri de avaliação de estágio/trabalho de investigação/projeto de Licenciatura (excluem-se os Orientadores) | G27: Júri | H27: 2.5 | J27: =I27*H27 -> 0 | N27: =H27*M27 -> 0
D28: P14 | E28: Arguente no júri de avaliação de estágio profissionalizante, dissertação ou trabalho de projeto de Mestrado (excluem-se os Orientadores) | G28: Júri | H28: 3 | J28: =I28*H28 -> 0 | N28: =H28*M28 -> 0
B29: 25 | J29: =SUM(J21:J28) -> 0 | N29: =SUM(N21:N28) -> 0
B30: Experiência como docente do ensino básico, secundário, profissional, artístico e/ou como formador na área do concurso | C30: Experiência Letiva fora do ensino superior | D30: P15 | E30: Lecionação em estabelecimentos de Educação pré-escolar e/ou em escolas do ensino básico, secundário e/ou profissional e/ou artístico na área do concurso | G30: Meses | H30: 0.4 | J30: =H30*I30 -> 0 | K30: =IF((J40)>B40,B40,(J40)) -> 0 | N30: =H30*M30 -> 0 | O30: =IF((N40)>B40,B40,(N40)) -> 0
D31: P16 | E31: Lecionação em estabelecimentos de Educação pré-escolar e/ou em Escolas do ensino básico, secundário e/ou profissional e/ou artístico noutra área diferente | G31: Meses | H31: 0.2 | J31: =H31*I31 -> 0 | N31: =H31*M31 -> 0
D32: P17 | E32: Lecionação de cursos/ações/oficinas de Formação para técnicos superiores - duração < a 25 horas | G32: Curso | H32: 1.3 | J32: =H32*I32 -> 0 | N32: =H32*M32 -> 0
D33: P18 | E33: Lecionação de cursos/ações/oficinas de Formação para técnicos superiores - duração ≥ 25h | G33: Curso | H33: 3.5 | J33: =H33*I33 -> 0 | N33: =H33*M33 -> 0
D34: P19 | E34: Lecionação de cursos/ações/oficinas de Formação para não licenciados - duração < a 25 horas | G34: Curso | H34: 1 | J34: =H34*I34 -> 0 | N34: =H34*M34 -> 0
D35: P20 | E35: Lecionação de cursos/ações/oficinas de Formação para não licenciados - duração ≥ 25h | G35: Curso | H35: 2.5 | J35: =H35*I35 -> 0 | N35: =H35*M35 -> 0
B36: Pontuação máxima a considerar (entre 25 e 35, a decidir pelo CTC por proposta do GCD que propõe a abertura do concurso) | C36: Funções de Gestão/Coordenação | D36: P21 | E36: Direção de turma | G36: Turma/ano | H36: 2 | J36: =H36*I36 -> 0 | N36: =H36*M36 -> 0
D37: P22 | E37: Coordenação de Departamento | G37: Ano letivo | H37: 3.7 | J37: =H37*I37 -> 0 | N37: =H37*M37 -> 0
D38: P23 | E38: Direção Pedagógica | G38: Ano letivo | H38: 5 | J38: =H38*I38 -> 0 | N38: =H38*M38 -> 0
D39: P24 | E39: Membro de equipa multidisciplinar | G39: Ano letivo | H39: 2 | J39: =H39*I39 -> 0 | N39: =H39*M39 -> 0
B40: 25 | J40: =SUM(J30:J39) -> 0 | N40: =SUM(N30:N39) -> 0
B41: Outras atividades de natureza pedagógica | C41: Participação e Coordenação de projetos pedagógicos | D41: P25 | E41: Membro de equipa responsável pela elaboração de proposta de novo curso/formação de CTESP, licenciatura, pós-graduação e mestrado, aprovada e colocada em funcionamento | G41: curso/formação | H41: 5 | J41: =I41*H41 -> 0 | K41: =IF((J58)>B58,B20,(J58)) -> 0 | N41: =H41*M41 -> 0 | O41: =IF((N58)>B58,B20,(N58)) -> 0
D42: P26 | E42: Membro de equipa responsável pela elaboração de proposta de novo curso não conferente de grau, aprovada e colocada em funcionamento | G42: curso/formação | H42: 1 | J42: =I42*H42 -> 0 | N42: =H42*M42 -> 0
D43: P27 | E43: Coordenação de projeto pedagógico desenvolvido em escola (não incluído nas UC que leciona). | G43: projeto | H43: 4 | J43: =I43*H43 -> 0 | N43: =H43*M43 -> 0
D44: P28 | E44: Participação em projeto pedagógico desenvolvido em escola (não incluído nas UC que leciona). | G44: projeto | H44: 1 | J44: =I44*H44 -> 0 | N44: =H44*M44 -> 0
C45: Colaboração em programas de Mobilidade internacional | D45: P29 | E45: Tutoria de alunos em mobilidade internacional (incoming) | G45: Aluno | H45: 0.6 | J45: =I45*H45 -> 0 | N45: =H45*M45 -> 0
...

Sheet Componente Profissional e Organ
C2: RECRUTAMENTO POR MOBILIDADE DE DOCENTE NA CATEGORIA DE PROFESSOR ADJUNTO
C3: ='Identificação do Candidato'!B7 -> Área do processo de Recrutamento em Mobilidade:
C4: ='Identificação do Candidato'!C8 -> Turismo
C6: Nome do Candidato: | E6: ='Identificação do Candidato'!C12 -> 0
C8: COMPONENTE PROFISSIONAL E ORGANIZACIONAL ( Ponderação na Pontuação Final - entre 15% e 25% -, a decidir pelo CTC por proposta do GCD que propõe a abertura do concurso) = | F8: 0.15
B10: Parâmetros | C10: Dimensão | D10: Item | E10: Elementos a valorizar | G10: Unidade | H10: Pontos | I10: Auto-Pontuação do candidato | M10: Validação do júri
I11: Nº (ou fracção) de elementos a pontuar | J11: Pontuação Total | K11: Pontuação a considerar | L11: Identificação do(s) Anexo(s) comprovativo(s) | M11: Nº (ou fracção) de elementos a pontuar | N11: Pontuação Total | O11: Pontuação a considerar | P11: Justificação para os casos em que o júri não valida a informação fornecida pelo candidato
B12: I | C12: II | D12: III | E12: IV | G12: V | H12: VI | I12: VII | J12: VIII | K12: IX | L12: X | M12: XI | N12: XII | O12: XIII | P12: XIV
B13: Experiência Profissional (fora do ensino superior) no âmbito da área do Concurso | C13: Experiência profissional como Licenciado/Técnico Superior na área do concurso (exetua-se docência) | D13: O1 | E13: Funções de direção técnica/artística nos ultimos 10 anos | G13: Meses | H13: 1 | J13: =H13*I13 -> 0 | K13: =IF((J16)>B16,B16,(J16)) -> 0 | N13: =H13*M13 -> 0 | O13: =IF((N16)>B16,B16,(N16)) -> 0
D14: O2 | E14: Funções de coordenação de equipas nos ultimos 10 anos (não pontuadas em O1) | G14: Meses | H14: 0.7 | J14: =H14*I14 -> 0 | N14: =H14*M14 -> 0
B15: Pontuação máxima a considerar (entre 50 e 60, a decidir pelo CTC por proposta do GCD que propõe a abertura do concurso) | D15: O3 | E15: Funções técnicas /artísticas, nos ultimos 10 anos (não pontuadas em O1 e O2) | G15: Meses | H15: 0.3 | J15: =H15*I15 -> 0 | N15: =H15*M15 -> 0
B16: 50 | J16: =SUM(J13:J15) -> 0 | N16: =SUM(N13:N15) -> 0
B17: Reconhecimento | C17: Reconhecimento | D17: O4 | E17: Membro de Júri para atribuição de títulos profissionais | G17: júri | H17: 2.5 | J17: =H17*I17 -> 0 | K17: =IF((J22)>B22,B22,(J22)) -> 0 | N17: =H17*M17 -> 0 | O17: =IF((N22)>B22,B22,(N22)) -> 0
D18: O5 | E18: Membro de Júri para atribuição de prémios de natureza profissional | G18: júri | H18: 2.5 | J18: =H18*I18 -> 0 | N18: =H18*M18 -> 0
D19: O6 | E19: Prémio de natureza profissional | G19: prémio | H19: 5 | J19: =H19*I19 -> 0 | N19: =H19*M19 -> 0
C20: Projetos e eventos | D20: O7 | E20: Membro de equipa de elaboração de Plano/Projeto/Estudo/Relatório de ambito profissional, na área do concurso, apresentado publicamente ou a entidade empregadora, financiadora, ou outra equivalente. | G20: Projecto | H20: 4 | J20: =H20*I20 -> 0 | N20: =H20*M20 -> 0
B21: Pontuação máxima a considerar (entre 30 e 40, a decidir pelo CTC por proposta do GCD que propõe a abertura do concurso) | D21: O8 | E21: Membro de equipa organizadora de evento profissional/organizacional na área do concurso (Excluindo eventos de natureza pedagógica, que devem ser pontuados em P37 a P39) | G21: Evento | H21: 1 | J21: =H21*I21 -> 0 | N21: =H21*M21 -> 0
B22: 40 | J22: =SUM(J17:J21) -> 0 | N22: =SUM(N17:N21) -> 0
B23: Outros | C23: Outros | D23: O9 | E23: Dirigente das comissões executivas de organizações profissionais de natureza técnica, científica ou artística ou desportiva | G23: organização | H23: 3 | J23: =H23*I23 -> 0 | K23: =IF((J26)>B26,B26,(J26)) -> 0 | N23: =H23*M23 -> 0 | O23: =IF((N26)>B26,B26,(N26)) -> 0
D24: O10 | E24: Membro de organizações profissionais de natureza técnica-científica ou artística ou desportiva | G24: Organização | H24: 1 | J24: =H24*I24 -> 0 | N24: =H24*M24 -> 0
B25: Pontuação máxima a considerar (entre 5 e 15, a decidir pelo CTC por proposta do GCD que propõe a abertura do concurso) | D25: O11 | E25: Outros elementos do currículo profissional que o júri considere relevantes | G25: elemento | H25: 1 | J25: =H25*I25 -> 0 | N25: =H25*M25 -> 0
B26: 10 | J26: =SUM(J23:J25) -> 0 | N26: =SUM(N23:N25) -> 0
B28: TOTAL DA COMPONENTE PROFISSIONAL E ORGANIZACIONAL | J28: =J16+J22+J26 -> 0 | K28: =SUM(K13:K26) -> 0 | N28: =N16+N22+N26 -> 0 | O28: =SUM(O13:O26) -> 0

Sheet Pontuação Total
C3: RECRUTAMENTO POR MOBILIDADE DE DOCENTE NA CATEGORIA DE PROFESSOR ADJUNTO
C4: ='Identificação do Candidato'!B7 -> Área do processo de Recrutamento em Mobilidade:
C5: ='Identificação do Candidato'!C8 -> Turismo
C7: Nome do Candidato: | E7: ='Identificação do Candidato'!C12 -> 0
C9: PONTUAÇÃO DO CURRICULO
D11: AUTO-AVALIAÇÃO DO CANDIDATO | H11: PONTUAÇÃO APÓS VALIDAÇÃO DO JÚRI
D12: Pontuação Total | E12: Pontuação a Considerar | F12: Factor de ponderação | G12: Pontuação Ponderada | H12: Pontuação Total | I12: Pontuação a Considerar | J12: Factor de ponderação | K12: Pontuação Ponderada
C13: Componente Formação, Graus e Titulos Académicos | D13: ='Componente Formação, Graus e Ti'!J29 -> 0 | E13: ='Componente Formação, Graus e Ti'!K29 -> 0 | F13: ='Componente Formação, Graus e Ti'!F10 -> 0.15 | G13: =E13*F13 -> 0 | H13: ='Componente Formação, Graus e Ti'!N29 -> 0 | I13: ='Componente Formação, Graus e Ti'!O29 -> 0 | J13: ='Componente Formação, Graus e Ti'!F10 -> 0.15 | K13: =I13*J13 -> 0
C14: Componente Técnico-Científica | D14: ='Componente Técnico-Científica'!J100 -> 0 | E14: ='Componente Técnico-Científica'!K100 -> 0 | F14: ='Componente Técnico-Científica'!F9 -> 0.5 | G14: =E14*F14 -> 0 | H14: ='Componente Técnico-Científica'!N100 -> 0 | I14: ='Componente Técnico-Científica'!O100 -> 0 | J14: ='Componente Técnico-Científica'!F9 -> 0.5 | K14: =I14*J14 -> 0
C15: Componente Pedagógica | D15: ='Componente Pedagógica'!J60 -> 0 | E15: ='Componente Pedagógica'!K60 -> 0 | F15: ='Componente Pedagógica'!F9 -> 0.2 | G15: =E15*F15 -> 0 | H15: ='Componente Pedagógica'!N60 -> 0 | I15: ='Componente Pedagógica'!O60 -> 0 | J15: ='Componente Pedagógica'!F9 -> 0.2 | K15: =I15*J15 -> 0
C16: Componente Profissional e Organizacional | D16: ='Componente Profissional e Organ'!J28 -> 0 | E16: ='Componente Profissional e Organ'!K28 -> 0 | F16: ='Componente Profissional e Organ'!F8 -> 0.15 | G16: =E16*F16 -> 0 | H16: ='Componente Profissional e Organ'!N28 -> 0 | I16: ='Componente Profissional e Organ'!O28 -> 0 | J16: ='Componente Profissional e Organ'!F8 -> 0.15 | K16: =I16*J16 -> 0
F17: =SUM(F13:F16) -> 1
C18: Pontuação Final (0-100) | G18: =G13+G14+G15+G16 -> 0 | K18: =K13+K14+K15+K16 -> 0
D20: CRITÉRIOS DE DESEMPATE
D21: Em caso de empate entre candidatos ao desempate será feito tendo por critério a melhor pontuação nas seguintes situações (usar sucessivaemnte até se obter o desempate):
B23: 1.º | C23: Componente Técnico-científica | D23: Pontuação ponderada | E23: =K14 -> 0
B24: 2.º | D24: pontuação total | E24: =H14 -> 0
B25: 3.º | C25: Componente pedagógica | D25: Pontuação ponderada | E25: =K15 -> 0
B26: 4.º | D26: pontuação total | E26: =H15 -> 0
B27: 5.º | C27: Componente profissional e organizacional | D27: Pontuação ponderada | E27: =K16 -> 0
B28: 6.º | D28: pontuação total | E28: =H16 -> 0
C30: MEMBROS DO JÚRI
D31: Nome | H31: Assinatura
C32: Presidente
C34: Vogais Efetivos
C40: Vogais Supplentes
