Workbook

Sheet ID
A1: IDENTIFICAÇÃO DO PROJECTO | F1: Índice
F2: Identificação
A3: Acrónimo do projecto | F3: Parceiros
A4: Designação completa do projecto | F4: Tarefas
F5: Cronograma
A6: Origem | B6: Nacional | F6: Recursos humanos
B7: Internacional | F7: Equipamento
F8: Aquisição de bens e serviços
A9: Programa de financiamento | F9: Missões
A10: Linha de financiamento | F10: Orçamento
A12: Principal quadro legal/normativo | F12: Anexo 1_RH
F13: Anexo 2_Missões
A14: Taxa de financiamento (%)
A16: Encargos gerais (%)
A18: Tipo de financiamento | B18: Por rubricas de despesa
B19: Por imputação de tempos de trabalho
A21: Montante global estimado (€)
A22: Montante global estimado para o IPC (€) | C22: =Orçamento!B13 -> 0
A26: Instruções de preenchimento:
A27: 1. Este formulário deverá ser preenchido com o máximo de informação disponível aquando da concepção da candidatura. Não tendo um carácter definitivo, solicita-se, contudo, o maior rigor possível na introdução dos valores, de forma a minimizar diferenças orçamentais entre o necessário e o elegível. A este respeito, sugere-se uma leitura cuidada prévia do principal quadro legal/normativo da linha/mecanismo de financiamento, procurando, desde logo, ter em consideração aspectos fundamentais como: taxa de financiamento (%); encargos gerais (%); tipo de financiamento (por rubricas/imputação de tempos de trabalho); financiamento de equipamentos (na totalidade/amortizações), etc.
A32: 2. Apenas as células preenchidas com a cor da presente (verde claro) deverão ser preenchidas manualmente, pois as restantes são de preenchimento automático.
A33: 3. Para facilitar o preenchimento do formulário, encontrará, ao longo do mesmo, várias células assinaladas com notas de comentário, que disponibilizam indicações de preenchimento e exemplos práticos.
A35: 4. No caso de qualquer dúvida, p.f., contactar o Instituto de Investigação Aplicada, através do email geral@iia.ipc.pt.
A36: Obrigado, bom trabalho!
F37: Seguinte >

Sheet Parceiros
A1: PARCEIROS
A2: Ref. | B2: Nome | C2: Investigador/Técnico responsável
A3: Coordenação de projecto
A4: P1
A5: P2
A6: P3
A7: P4
A8: P5
A9: P6
A10: P7
A11: P8
A12: P9
A13: P10
A14: P11
... A28: P25
E29: < Anterior | F29: Seguinte >

Sheet Tarefas
A1: TAREFAS
A2: Ref. | B2: Designação/Breve descrição da tarefa | C2: Participação da equipa do IPC
A3: T1
A4: T2
A5: T3
A6: T4
A7: T5
A8: T6
A9: T7
A10: T8
A11: T9
A12: T10
A13: T11
A14: T12
... A27: T25
E28: < Anterior | F28: Seguinte >

Sheet Cronograma
A1: CRONOGRAMA
A2: Ref. | B2: Ano 1 | N2: Ano 2 | Z2: Ano 3 | AL2: Ano 4
B3: M1 | C3: M2 | D3: M3 | E3: M4 | F3: M5 | G3: M6 | H3: M7 | I3: M8 | J3: M9 | K3: M10 | L3: M11 | M3: M12 | N3: M1 | O3: M2 | P3: M3 | Q3: M4 | R3: M5 | S3: M6 | T3: M7 | U3: M8 | V3: M9 | W3: M10 | X3: M11 | Y3: M12 | Z3: M1 | AA3: M2 | AB3: M3 | AC3: M4 | AD3: M5 | AE3: M6 | AF3: M7 | AG3: M8 | AH3: M9 | AI3: M10 | AJ3: M11 | AK3: M12 | AL3: M1 | AM3: M2 | AN3: M3 | AO3: M4 | AP3: M5 | AQ3: M6 | AR3: M7 | AS3: M8 | AT3: M9 | AU3: M10 | AV3: M11 | AW3: M12
A4: T1
A5: T2
A6: T3
A7: T4
A8: T5
A9: T6
A10: T7
A11: T8
A12: T9
A13: T10
A14: T11
A15: T12
... A28: T25
AY29: < Anterior | AZ29: Seguinte >

Sheet Recursos humanos
A1: RECURSOS NECESSÁRIOS
A2: Recursos Humanos (excepto a prestação de serviços, por contrato de tarefa ou avença)
A3: DOCENTES / INVESTIGADORES / OUTROS TRABALHADORES DO IPC
A4: Ref. | B4: Nome | C4: Vencimento bruto (€) | D4: Outras remumerações (€) | E4: Encargos Ent. Patronal (€) | F4: % de tempo | G4: Custo pessoa/mês (€/mês) | H4: N.º de meses | J4: Valor total (€)
A5: 1 | E5: =(C5+D5)*0.2375 -> 0 | G5: =((E5+C5+D5)*14/11)*(F5/100) -> 0 | J5: =G5*H5 -> 0
A6: 2 | E6: =(C6+D6)*0.2375 -> 0 | G6: =((E6+C6+D6)*14/11)*(F6/100) -> 0 | J6: =G6*H6 -> 0
A7: 3 | E7: =(C7+D7)*0.2375 -> 0 | G7: =((E7+C7+D7)*14/11)*(F7/100) -> 0 | J7: =G7*H7 -> 0
A8: 4 | E8: =(C8+D8)*0.2375 -> 0 | G8: =((E8+C8+D8)*14/11)*(F8/100) -> 0 | J8: =G8*H8 -> 0
A9: 5 | E9: =(C9+D9)*0.2375 -> 0 | G9: =((E9+C9+D9)*14/11)*(F9/100) -> 0 | J9: =G9*H9 -> 0
A10: 6 | E10: =(C10+D10)*0.2375 -> 0 | G10: =((E10+C10+D10)*14/11)*(F10/100) -> 0 | J10: =G10*H10 -> 0
A11: 7 | E11: =(C11+D11)*0.2375 -> 0 | G11: =((E11+C11+D11)*14/11)*(F11/100) -> 0 | J11: =G11*H11 -> 0
A12: 8 | E12: =(C12+D12)*0.2375 -> 0 | G12: =((E12+C12+D12)*14/11)*(F12/100) -> 0 | J12: =G12*H12 -> 0
A13: 9 | E13: =(C13+D13)*0.2375 -> 0 | G13: =((E13+C13+D13)*14/11)*(F13/100) -> 0 | J13: =G13*H13 -> 0
A14: 10 | E14: =(C14+D14)*0.2375 -> 0 | G14: =((E14+C14+D14)*14/11)*(F14/100) -> 0 | J14: =G14*H14 -> 0
A15: Sub-total (€) | J15: =SUM(J5:J14) -> 0
A16: BOLSEIROS A CONTRATAR
A17: Ref. | B17: Tipologia de bolsa | C17: Valor da bolsa (€) | E17: Custos associados (€) | F17: % de tempo | G17: Custo pessoa/mês (€/mês) | H17: N.º de meses | I17: Outros custos (€) | J17: Valor total (€)
A18: 1 | B18: 1 | C18: =IF(B18=1,0)+IF(B18=2,651.12)+IF(B18=3,1040.98)+IF(B18=4,1309.64)+IF(B18=5,1851) -> 0 | E18: =IF(C18<>0,154.66)+IF(C18="0",0) -> 0 | F18: 100 | G18: =((C18+E18)*F18)/100 -> 0 | I18: =H18*20 -> 0 | J18: =G18*H18+I18 -> 0
A19: 2 | B19: 1 | C19: =IF(B19=1,0)+IF(B19=2,651.12)+IF(B19=3,1040.98)+IF(B19=4,1309.64)+IF(B19=5,1851) -> 0 | E19: =IF(C19<>0,154.66)+IF(C19="0",0) -> 0 | F19: 100 | G19: =((C19+E19)*F19)/100 -> 0 | I19: =H19*20 -> 0 | J19: =G19*H19+I19 -> 0
A20: 3 | B20: 1 | C20: =IF(B20=1,0)+IF(B20=2,651.12)+IF(B20=3,1040.98)+IF(B20=4,1309.64)+IF(B20=5,1851) -> 0 | E20: =IF(C20<>0,154.66)+IF(C20="0",0) -> 0 | F20: 100 | G20: =((C20+E20)*F20)/100 -> 0 | I20: =H20*20 -> 0 | J20: =G20*H20+I20 -> 0
A21: 4 | B21: 1 | C21: =IF(B21=1,0)+IF(B21=2,651.12)+IF(B21=3,1040.98)+IF(B21=4,1309.64)+IF(B21=5,1851) -> 0 | E21: =IF(C21<>0,154.66)+IF(C21="0",0) -> 0 | F21: 100 | G21: =((C21+E21)*F21)/100 -> 0 | I21: =H21*20 -> 0 | J21: =G21*H21+I21 -> 0
A22: 5 | B22: 1 | C22: =IF(B22=1,0)+IF(B22=2,651.12)+IF(B22=3,1040.98)+IF(B22=4,1309.64)+IF(B22=5,1851) -> 0 | E22: =IF(C22<>0,154.66)+IF(C22="0",0) -> 0 | F22: 100 | G22: =((C22+E22)*F22)/100 -> 0 | I22: =H22*20 -> 0 | J22: =G22*H22+I22 -> 0
A23: 6 | E23: =IF(C23<>0,154.66)+IF(C23="0",0) -> 0 | F23: 100 | G23: =((C23+E23)*F23)/100 -> 0 | I23: =H23*20 -> 0 | J23: =G23*H23+I23 -> 0
A24: 7 | E24: =IF(C24<>0,154.66)+IF(C24="0",0) -> 0 | F24: 100 | G24: =((C24+E24)*F24)/100 -> 0 | I24: =H24*20 -> 0 | J24: =G24*H24+I24 -> 0
A25: 8 | E25: =IF(C25<>0,154.66)+IF(C25="0",0) -> 0 | F25: 100 | G25: =((C25+E25)*F25)/100 -> 0 | I25: =H25*20 -> 0 | J25: =G25*H25+I25 -> 0
A26: 9 | E26: =IF(C26<>0,154.66)+IF(C26="0",0) -> 0 | F26: 100 | G26: =((C26+E26)*F26)/100 -> 0 | I26: =H26*20 -> 0 | J26: =G26*H26+I26 -> 0
A27: 10 | E27: =IF(C27<>0,154.66)+IF(C27="0",0) -> 0 | F27: 100 | G27: =((C27+E27)*F27)/100 -> 0 | I27: =H27*20 -> 0 | J27: =G27*H27+I27 -> 0
A28: Sub-total (€) | J28: =SUM(J18:J27) -> 0
A29: PESSOAL A CONTRATAR (mediante contrato de trabalho)
A30: Ref. | B30: Função/Categoria | C30: Vencimento bruto (€) | E30: Encargos Ent. Patronal (€) | F30: % de tempo | G30: Custo pessoa/mês (€/mês) | H30: N.º de meses | J30: Valor total (€)
A31: 1 | E31: =C31*0.2375 -> 0 | G31: =((E31+C31)*14/11)*(F31/100) -> 0 | J31: =G31*H31 -> 0
A32: 2 | E32: =C32*0.2375 -> 0 | G32: =((E32+C32)*14/11)*(F32/100) -> 0 | J32: =G32*H32 -> 0
A33: 3 | E33: =C33*0.2375 -> 0 | G33: =((E33+C33)*14/11)*(F33/100) -> 0 | J33: =G33*H33 -> 0
A34: 4 | E34: =C34*0.2375 -> 0 | G34: =((E34+C34)*14/11)*(F34/100) -> 0 | J34: =G34*H34 -> 0
A35: 5 | E35: =C35*0.2375 -> 0 | G35: =((E35+C35)*14/11)*(F35/100) -> 0 | J35: =G35*H35 -> 0
A36: 6 | E36: =C36*0.2375 -> 0 | G36: =((E36+C36)*14/11)*(F36/100) -> 0 | J36: =G36*H36 -> 0
A37: 7 | E37: =C37*0.2375 -> 0 | G37: =((E37+C37)*14/11)*(F37/100) -> 0 | J37: =G37*H37 -> 0
A38: 8 | E38: =C38*0.2375 -> 0 | G38: =((E38+C38)*14/11)*(F38/100) -> 0 | J38: =G38*H38 -> 0
A39: 9 | E39: =C39*0.2375 -> 0 | G39: =((E39+C39)*14/11)*(F39/100) -> 0 | J39: =G39*H39 -> 0
A40: 10 | E40: =C40*0.2375 -> 0 | G40: =((E40+C40)*14/11)*(F40/100) -> 0 | J40: =G40*H40 -> 0
...

Sheet Equipamento
A1: RECURSOS NECESSÁRIOS
A2: Equipamento / instalações /obras
A3: Ref. | B3: Designação | C3: Quantidade (Unid.) | D3: Valor unitário (€) | E3: Valor total (€) | F3: Existência de equipamento disponível | H3: Taxa legal de amortização (%) se elegível apenas a amortização | I3: % de imputação ao projeto | J3: Valor da amortização mensal (€) | K3: N.º de meses a amortizar | L3: Despesa elegível para o proj. (€) | M3: Despesa não elegível (€) | N3: Justificação da aquisição
F4: Sim | G4: Não
A5: 1 | E5: =C5*D5 -> 0 | J5: =E5*(H5/100/12*I5/100) -> 0 | L5: =IF(H5<>0,J5*K5,E5) -> 0 | M5: =IF(F5="x",0,E5-L5) -> 0
A6: 2 | E6: =C6*D6 -> 0 | J6: =E6*(H6/100/12*I6/100) -> 0 | L6: =IF(H6<>0,J6*K6,E6) -> 0 | M6: =IF(F6="x",0,E6-L6) -> 0
A7: 3 | E7: =C7*D7 -> 0 | J7: =E7*(H7/100/12*I7/100) -> 0 | L7: =IF(H7<>0,J7*K7,E7) -> 0 | M7: =IF(F7="x",0,E7-L7) -> 0
A8: 4 | E8: =C8*D8 -> 0 | J8: =E8*(H8/100/12*I8/100) -> 0 | L8: =IF(H8<>0,J8*K8,E8) -> 0 | M8: =IF(F8="x",0,E8-L8) -> 0
A9: 5 | E9: =C9*D9 -> 0 | J9: =E9*(H9/100/12*I9/100) -> 0 | L9: =IF(H9<>0,J9*K9,E9) -> 0 | M9: =IF(F9="x",0,E9-L9) -> 0
A10: 6 | E10: =C10*D10 -> 0 | J10: =E10*(H10/100/12*I10/100) -> 0 | L10: =IF(H10<>0,J10*K10,E10) -> 0 | M10: =IF(F10="x",0,E10-L10) -> 0
A11: 7 | E11: =C11*D11 -> 0 | J11: =E11*(H11/100/12*I11/100) -> 0 | L11: =IF(H11<>0,J11*K11,E11) -> 0 | M11: =IF(F11="x",0,E11-L11) -> 0
A12: 8 | E12: =C12*D12 -> 0 | J12: =E12*(H12/100/12*I12/100) -> 0 | L12: =IF(H12<>0,J12*K12,E12) -> 0 | M12: =IF(F12="x",0,E12-L12) -> 0
A13: 9 | E13: =C13*D13 -> 0 | J13: =E13*(H13/100/12*I13/100) -> 0 | L13: =IF(H13<>0,J13*K13,E13) -> 0 | M13: =IF(F13="x",0,E13-L13) -> 0
A14: 10 | E14: =C14*D14 -> 0 | J14: =E14*(H14/100/12*I14/100) -> 0 | L14: =IF(H14<>0,J14*K14,E14) -> 0 | M14: =IF(F14="x",0,E14-L14) -> 0
A15: (…) | E15: =C15*D15 -> 0 | J15: =E15*(H15/100/12*I15/100) -> 0 | L15: =IF(H15<>0,J15*K15,E15) -> 0 | M15: =IF(F15="x",0,E15-L15) -> 0
A16: TOTAL (€) | C16: - | D16: - | E16: =SUM(E5:E15) -> 0 | F16: - | G16: - | H16: - | I16: - | J16: - | K16: - | L16: =SUM(L5:L15) -> 0 | M16: =SUM(M5:M15) -> 0 | N16: -
P17: < Anterior | Q17: Seguinte >

Sheet Aq. de bens e serviços
A1: RECURSOS NECESSÁRIOS
A2: Aquisição de bens e serviços (inclui contratos de tarefa ou avença, subcontratos, aquisição de bens e outros serviços)
A3: Ref. | B3: Designação | C3: Quantidade (Unid.) | D3: Valor unitário (€) | E3: Valor total (€)
A4: 1 | E4: =IF(C4="vg",D4,C4*D4) -> 0
A5: 2 | E5: =IF(C5="vg",D5,C5*D5) -> 0
A6: 3 | E6: =IF(C6="vg",D6,C6*D6) -> 0
A7: 4 | E7: =IF(C7="vg",D7,C7*D7) -> 0
A8: 5 | E8: =IF(C8="vg",D8,C8*D8) -> 0
A9: 6 | E9: =IF(C9="vg",D9,C9*D9) -> 0
A10: 7 | E10: =IF(C10="vg",D10,C10*D10) -> 0
A11: 8 | E11: =IF(C11="vg",D11,C11*D11) -> 0
A12: 9 | E12: =IF(C12="vg",D12,C12*D12) -> 0
A13: 10 | E13: =IF(C13="vg",D13,C13*D13) -> 0
A14: (…) | E14: =IF(C14="vg",D14,C14*D14) -> 0
A15: TOTAL (€) | E15: =SUM(E4:E14) -> 0
G16: < Anterior | H16: Seguinte >

Sheet Missões
A1: RECURSOS NECESSÁRIOS
A2: Missões
A3: Ref. | B3: Tipologia | D3: Valor total (€)
A4: 1 | B4: Missão internacional | C4: Deslocações
C5: Ajudas de custo
A6: 2 | B6: Missão interna | C6: Deslocações
C7: Ajudas de custo
A8: 3 | B8: Inscrições em eventos técnico científicos
A9: TOTAL (€) | D9: =SUM(D4:D8) -> 0
F10: < Anterior | G10: Seguinte >
G11: Anexo 2_Missões >>

Sheet Orçamento
A1: ORÇAMENTO
A2: Orçamento de DESPESA pretendido (€)
A3: Rubrica | B3: Valor total elegível | C3: Aquisições / Contratações / Outros custos diretos | D3: Despesas imputadas | E3: Despesas não elegíveis | F3: Despesa total
A5: Recursos humanos | B5: =D5+C5-E5 -> 0 | C5: ='Recursos humanos'!J28+'Recursos humanos'!J41 -> 0 | D5: ='Recursos humanos'!J15 -> 0 | E5: 0 | F5: =B5+E5 -> 0
A6: Equipamentos | B6: =Equipamento!L16 -> 0 | C6: =Equipamento!L16-D6 -> 0 | D6: =IF(Equipamento!F5="x",Equipamento!L5,0)+IF(Equipamento!F6="x",Equipamento!L6,0)+IF(Equipamento!F7="x",Equipamento!L7,0)+IF(Equipamento!F8="x",Equipamento!L8,0)+IF(Equipamento!F9="x",Equipamento!L9,0)+IF(Equipamento!F10="x",Equipamento!L10,0)+IF(Equipamento!F11="x",Equipamento!L11,0)+IF(Equipamento!F12="x",Equipamento!L12,0)+IF(Equipamento!F130="x",Equipamento!L13,0)+IF(Equipamento!F14="x",Equipamento!L14,0)+IF(Equipamento!F15="x",Equipamento!L15,0) -> 0 | E6: =Equipamento!M16 -> 0 | F6: =B6+E6 -> 0
A7: Aquisição de bens e serviços | B7: ='Aq. de bens e serviços'!E15-E7 -> 0 | C7: =B7 -> 0 | D7: 0 | E7: 0 | F7: =B7+E7 -> 0
A8: Missões | B8: =Missões!D9-E8 -> 0 | C8: =Missões!D9 -> 0 | D8: 0 | E8: 0 | F8: =B8+E8 -> 0
A9: Outros: (especificar) | B9: =C9+D9 -> 0 | C9: 0 | D9: 0 | E9: 0 | F9: =B9+E9 -> 0
A10: Sub-total | B10: =SUM(B5:B9) -> 0 | C10: =SUM(C5:C9) -> 0 | D10: =SUM(D5:D9) -> 0 | E10: =SUM(E5:E9) -> 0 | F10: =B10+E10 -> 0
A11: Encargos gerais (%) (se aplicável) | B11: =ID!C16 -> 0 | C11: 0 | D11: 0 | E11: 0 | F11: 0
A12: Encargos gerais (€) | B12: =B10*B11 -> 0 | C12: 0 | D12: =B12 -> 0 | E12: 0 | F12: =B12+E12 -> 0
A13: TOTAL | B13: =B10+B12 -> 0 | C13: =C10+C12 -> 0 | D13: =D10+D12 -> 0 | E13: =E12+E10 -> 0 | F13: =B13+E13 -> 0
H14: < Anterior

Sheet O. Receita
A1: ORÇAMENTO
A2: Orçamento de DESPESA pretendido (€)
A3: Rubrica | B3: Valor total elegível | C3: Aquisições / Contratações / Outros custos diretos | D3: Despesas imputadas | E3: Despesas não elegíveis | F3: Despesa total | G3: Unidade orgânica a executar
G4: IIA | H4: UOE A | I4: UOE B | J4: UOE …
A5: Recursos humanos | B5: =D5+C5-E5 -> 0 | C5: ='Recursos humanos'!J28+'Recursos humanos'!J41 -> 0 | D5: ='Recursos humanos'!J15 -> 0 | E5: 0 | F5: =B5+E5 -> 0 | G5: =C5 -> 0 | H5: =D5 -> 0
A6: Equipamentos | B6: =Equipamento!L16 -> 0 | C6: =Equipamento!L16-D6 -> 0 | D6: =IF(Equipamento!F5="x",Equipamento!L5,0)+IF(Equipamento!F6="x",Equipamento!L6,0)+IF(Equipamento!F7="x",Equipamento!L7,0)+IF(Equipamento!F8="x",Equipamento!L8,0)+IF(Equipamento!F9="x",Equipamento!L9,0)+IF(Equipamento!F10="x",Equipamento!L10,0)+IF(Equipamento!F11="x",Equipamento!L11,0)+IF(Equipamento!F12="x",Equipamento!L12,0)+IF(Equipamento!F130="x",Equipamento!L13,0)+IF(Equipamento!F14="x",Equipamento!L14,0)+IF(Equipamento!F15="x",Equipamento!L15,0) -> 0 | E6: =Equipamento!M16 -> 0 | F6: =B6+E6 -> 0 | G6: =C6+E6 -> 0 | H6: =D6 -> 0
A7: Aquisição de bens e serviços | B7: ='Aq. de bens e serviços'!E15-E7 -> 0 | C7: =B7 -> 0 | D7: 0 | E7: 0 | F7: =B7+E7 -> 0 | G7: =F7 -> 0
A8: Missões | B8: =Missões!D9-E8 -> 0 | C8: =Missões!D9 -> 0 | D8: 0 | E8: 0 | F8: =B8+E8 -> 0 | G8: =F8 -> 0
A9: Outros: (especificar) | B9: =C9+D9 -> 0 | C9: =Orçamento!C9 -> 0 | D9: =Orçamento!D9 -> 0 | E9: =Orçamento!E9 -> 0 | F9: =B9+E9 -> 0 | G9: 0
A10: Sub-total | B10: =SUM(B5:B9) -> 0 | C10: =SUM(C5:C9) -> 0 | D10: =SUM(D5:D9) -> 0 | E10: =SUM(E5:E9) -> 0 | F10: =B10+E10 -> 0
A11: Encargos gerais (%) (se aplicável) | B11: =ID!C16 -> 0 | C11: 0 | D11: 0 | E11: 0 | F11: 0
A12: Encargos gerais (€) | B12: =B10*B11 -> 0 | C12: 0 | D12: =B12 -> 0 | E12: 0 | F12: =B12+E12 -> 0 | G12: =F12*0.05 -> 0 | H12: =F12*0.95 -> 0
A13: TOTAL | B13: =B10+B12 -> 0 | C13: =C10+C12 -> 0 | D13: =D10+D12 -> 0 | E13: =E12+E10 -> 0 | F13: =B13+E13 -> 0 | G13: =SUM(G5:G12) -> 0 | H13: =SUM(H5:H12) -> 0 | I13: =SUM(I5:I12) -> 0 | J13: =SUM(J5:J12) -> 0
A15: Orçamento de RECEITA
A16: Fontes de financiamento | B16: Entidade | C16: % de comparticipação das despesas eleg. | D16: Total elegível por entidade (€) | E16: Despesas não elegíveis (€) | F16: Despesa total (€) | G16: % de financ. do total de projecto
A17: Financiamento previsto | C17: =ID!C14 -> 0 | D17: =B$13*C17 -> 0 | E17: 0 | F17: =D17+E17 -> 0 | G17: =F17/$F$13 -> #DIV/0!
A18: OE ou RP (UOE A) | D18: =B$13*C18 -> 0 | F18: =D18+E18 -> 0 | G18: =F18/$F$13 -> #DIV/0!
A19: OE ou RP (UOE B) | D19: =B$13*C19 -> 0 | F19: =D19+E19 -> 0 | G19: =F19/$F$13 -> #DIV/0!
A20: OE ou RP (UOE ...) | D20: =B$13*C20 -> 0 | F20: =D20+E20 -> 0 | G20: =F20/$F$13 -> #DIV/0!
A21: Outras: (especificar) | D21: =B$13*C21 -> 0 | F21: =D21+E21 -> 0 | G21: =F21/$F$13 -> #DIV/0!
A22: TOTAL | B22: - | C22: =SUM(C17:C21) -> 0 | D22: =SUM(D17:D21) -> 0 | E22: =SUM(E17:E21) -> 0 | F22: =SUM(F17:F21) -> 0 | G22: =SUM(G17:G21) -> #DIV/0!
L23: < Anterior

Sheet Anexo 1_RH
A1: INFORMAÇÃO DE APOIO A BOLSAS
A2: Regulamento de bolsas da FCT
A3: Subsídio mensal de manutenção (SMM) | C3: Valor (€)
A4: Tipo de Bolsa | C4: País | D4: Estrangeiro
A5: 1. Atividades de I&D a realizar por doutorados (BIPD) | C5: 1851 | D5: 2662.03
A6: 2. Atividades de I&D a realizar por estudantes de doutoramento ou por licenciados e mestres inscritos em cursos não conferentes de grau académico (BI) | C6: 1309.64 | D6: 2118.65
A7: 3. Atividades de I&D a realizar por estudantes de mestrado, mestrado integrado ou por licenciados e mestres inscritos em cursos não conferentes de grau académico (BI) | C7: 1040.98 | D7: 1802.52
A8: 4. Atividades de iniciação a I&D (BII) | C8: 651.12 | D8: -
A10: Valor do Seguro Social Voluntário 2024 (€) | C10: 154.66
F11: << Recursos Humanos

Sheet Anexo 2_Missões
A1: INFORMAÇÃO DE APOIO A MISSÕES
A2: Ajudas de custo
A3: C/ base na Lei do Orçamento de Estado 2013
A5: Ajudas de custo no país (€)
A6: Nível remuneratório | B6: 1 | C6: 0.5 | D6: 0.25
A7: Com vencimentos superiores ao Nível Remuneratório 18 (1.491,25 €) | B7: 62.75 | C7: 31.38 | D7: 15.69
A8: Com vencimentos entre o Nível Remuneratório 9 e 18 (1.015,56 € e 1.491,25 €) | B8: 51.05 | C8: 25.53 | D8: 12.76
A9: Outros | B9: 46.86 | C9: 23.43 | D9: 11.72
A11: Ajudas de custo no Estrangeiro (€)
A12: Nível remuneratório | B12: 1 | C12: 0.7
A13: Com vencimentos superiores ao Nível Remuneratório 18 (1.491,25 €) | B13: 148.91 | C13: 104.24
A14: Com vencimentos entre o Nível Remuneratório 9 e 18 (1.015,56 € e 1.491,25 €) | B14: 131.59 | C14: 92.11
A15: Outros | B15: 111.88 | C15: 78.35
A17: Subsídios de transporte
A18: Tipo | B18: €/Km
A19: Transporte em automóvel próprio | B19: 0.4
A20: Transporte em automóvel próprio (equivalente a público) | B20: 0.12
A22: Valor do subsídio de alimentação (€) | B22: 6
F23: << Missões

Sheet Folha1
B3: Atividades de iniciação a I&D (BII)
B4: Atividades de I&D a realizar por estudantes de mestrado, mestrado integrado ou por licenciados e mestres inscritos em cursos não conferentes de grau académico (BI)
B5: Atividades de I&D a realizar por estudantes de doutoramento ou por licenciados e mestres inscritos em cursos não conferentes de grau académico (BI)
B6: Atividades de I&D a realizar por doutorados (BIPD)
